BEGIN:VCALENDAR
VERSION:2.0
PRODID:-//Lutheran Church of Our Redeemer - ECPv6.15.20//NONSGML v1.0//EN
CALSCALE:GREGORIAN
METHOD:PUBLISH
X-ORIGINAL-URL:https://www.redeemerchurch.org
X-WR-CALDESC:Events for Lutheran Church of Our Redeemer
REFRESH-INTERVAL;VALUE=DURATION:PT1H
X-Robots-Tag:noindex
X-PUBLISHED-TTL:PT1H
BEGIN:VTIMEZONE
TZID:America/Chicago
BEGIN:DAYLIGHT
TZOFFSETFROM:-0600
TZOFFSETTO:-0500
TZNAME:CDT
DTSTART:20240310T080000
END:DAYLIGHT
BEGIN:STANDARD
TZOFFSETFROM:-0500
TZOFFSETTO:-0600
TZNAME:CST
DTSTART:20241103T070000
END:STANDARD
BEGIN:DAYLIGHT
TZOFFSETFROM:-0600
TZOFFSETTO:-0500
TZNAME:CDT
DTSTART:20250309T080000
END:DAYLIGHT
BEGIN:STANDARD
TZOFFSETFROM:-0500
TZOFFSETTO:-0600
TZNAME:CST
DTSTART:20251102T070000
END:STANDARD
BEGIN:DAYLIGHT
TZOFFSETFROM:-0600
TZOFFSETTO:-0500
TZNAME:CDT
DTSTART:20260308T080000
END:DAYLIGHT
BEGIN:STANDARD
TZOFFSETFROM:-0500
TZOFFSETTO:-0600
TZNAME:CST
DTSTART:20261101T070000
END:STANDARD
END:VTIMEZONE
BEGIN:VEVENT
DTSTART;TZID=America/Chicago:20250217T150000
DTEND;TZID=America/Chicago:20250217T153000
DTSTAMP:20260419T202627
CREATED:20241216T220522Z
LAST-MODIFIED:20250120T233021Z
UID:10001139-1739804400-1739806200@www.redeemerchurch.org
SUMMARY:Monday Night Prayer Group
DESCRIPTION:
URL:https://www.redeemerchurch.org/event/monday-night-prayer-group-46/
LOCATION:Redeemer Newburgh\, 7811 Oak Grove Rd\, Newburgh\, IN\, United States
GEO:37.990953;-87.391948
X-APPLE-STRUCTURED-LOCATION;VALUE=URI;X-ADDRESS=Redeemer Newburgh 7811 Oak Grove Rd Newburgh IN United States;X-APPLE-RADIUS=500;X-TITLE=7811 Oak Grove Rd:geo:-87.391948,37.990953
END:VEVENT
BEGIN:VEVENT
DTSTART;TZID=America/Chicago:20250217T160000
DTEND;TZID=America/Chicago:20250217T163000
DTSTAMP:20260419T202627
CREATED:20240916T204337Z
LAST-MODIFIED:20241209T220227Z
UID:10000919-1739808000-1739809800@www.redeemerchurch.org
SUMMARY:Monday Night Prayer Group
DESCRIPTION:
URL:https://www.redeemerchurch.org/event/monday-night-prayer-group-23/
LOCATION:Redeemer Newburgh\, 7811 Oak Grove Rd\, Newburgh\, IN\, United States
GEO:37.990953;-87.391948
X-APPLE-STRUCTURED-LOCATION;VALUE=URI;X-ADDRESS=Redeemer Newburgh 7811 Oak Grove Rd Newburgh IN United States;X-APPLE-RADIUS=500;X-TITLE=7811 Oak Grove Rd:geo:-87.391948,37.990953
END:VEVENT
BEGIN:VEVENT
DTSTART;TZID=America/Chicago:20250218T173000
DTEND;TZID=America/Chicago:20250218T183000
DTSTAMP:20260419T202627
CREATED:20240916T204337Z
LAST-MODIFIED:20250120T233022Z
UID:10000921-1739899800-1739903400@www.redeemerchurch.org
SUMMARY:Faith in Action Tuesday Encounter
DESCRIPTION:Bible Study in Upstairs Ridgway
URL:https://www.redeemerchurch.org/event/faith-in-action-tuesday-encounter-22/
LOCATION:Ridgway University Center\, 1001 E Walnut St\, Evansville\, IN\, United States
GEO:37.973579;-87.547699
X-APPLE-STRUCTURED-LOCATION;VALUE=URI;X-ADDRESS=Ridgway University Center 1001 E Walnut St Evansville IN United States;X-APPLE-RADIUS=500;X-TITLE=1001 E Walnut St:geo:-87.547699,37.973579
END:VEVENT
BEGIN:VEVENT
DTSTART;TZID=America/Chicago:20250218T173000
DTEND;TZID=America/Chicago:20250218T183000
DTSTAMP:20260419T202627
CREATED:20240916T204338Z
LAST-MODIFIED:20250120T233022Z
UID:10000922-1739899800-1739903400@www.redeemerchurch.org
SUMMARY:Women's Evening Bible Study @Oaklyn Library\, Study Rm B
DESCRIPTION:
URL:https://www.redeemerchurch.org/event/womens-evening-bible-study-oaklyn-library-study-rm-b-22/
LOCATION:3001 Oaklyn Dr\nEvansville\, IN\, United States
END:VEVENT
BEGIN:VEVENT
DTSTART;TZID=America/Chicago:20250218T173000
DTEND;TZID=America/Chicago:20250218T183000
DTSTAMP:20260419T202627
CREATED:20241014T212345Z
LAST-MODIFIED:20250120T233022Z
UID:10000996-1739899800-1739903400@www.redeemerchurch.org
SUMMARY:ELS Kindergarten KickOff
DESCRIPTION:Use the link to save your spot NOW!  Discover how your child can be a healthy\, confident\, caring learner and develop skills to become an innovative leader who will positively impact the world with the love of Christ.
URL:https://www.redeemerchurch.org/event/els-kindergarten-kickoff/
LOCATION:Evansville Lutheran School 111 E Virginia St\, Evansville\, IN\, United States
GEO:38.061732;-87.554802
END:VEVENT
BEGIN:VEVENT
DTSTART;TZID=America/Chicago:20250218T183000
DTEND;TZID=America/Chicago:20250218T200000
DTSTAMP:20260419T202627
CREATED:20240916T204337Z
LAST-MODIFIED:20250120T233021Z
UID:10000920-1739903400-1739908800@www.redeemerchurch.org
SUMMARY:MWF
DESCRIPTION:
URL:https://www.redeemerchurch.org/event/mwf-6/
LOCATION:FH
END:VEVENT
BEGIN:VEVENT
DTSTART;TZID=America/Chicago:20250219T183000
DTEND;TZID=America/Chicago:20250219T193000
DTSTAMP:20260419T202627
CREATED:20240923T205127Z
LAST-MODIFIED:20250120T233022Z
UID:10000808-1739989800-1739993400@www.redeemerchurch.org
SUMMARY:Choir Practice
DESCRIPTION:
URL:https://www.redeemerchurch.org/event/choir-practice-23/
LOCATION:Lutheran Church of Our Redeemer\, 1799 Lincoln Ave\, Evansville\, IN\, United States
GEO:37.969944;-87.532398
X-APPLE-STRUCTURED-LOCATION;VALUE=URI;X-ADDRESS=Lutheran Church of Our Redeemer 1799 Lincoln Ave Evansville IN United States;X-APPLE-RADIUS=500;X-TITLE=1799 Lincoln Ave:geo:-87.532398,37.969944
END:VEVENT
BEGIN:VEVENT
DTSTART;TZID=America/Chicago:20250220T120000
DTEND;TZID=America/Chicago:20250220T130000
DTSTAMP:20260419T202627
CREATED:20240923T205127Z
LAST-MODIFIED:20250120T233022Z
UID:10000810-1740052800-1740056400@www.redeemerchurch.org
SUMMARY:Backyard Bible Study
DESCRIPTION:On Facebook
URL:https://www.redeemerchurch.org/event/backyard-bible-study-23/
LOCATION:https://www.facebook.com/RedeemerEvansville
END:VEVENT
BEGIN:VEVENT
DTSTART;TZID=America/Chicago:20250220T130000
DTEND;TZID=America/Chicago:20250220T150000
DTSTAMP:20260419T202627
CREATED:20240923T205127Z
LAST-MODIFIED:20241014T212346Z
UID:10000812-1740056400-1740063600@www.redeemerchurch.org
SUMMARY:Sisters of Joy @Carousel
DESCRIPTION:
URL:https://www.redeemerchurch.org/event/sisters-of-joy-carousel-6/
LOCATION:Carousel Restaurant
END:VEVENT
BEGIN:VEVENT
DTSTART;TZID=America/Chicago:20250220T130000
DTEND;TZID=America/Chicago:20250220T150000
DTSTAMP:20260419T202627
CREATED:20241021T213217Z
LAST-MODIFIED:20250120T233022Z
UID:10000858-1740056400-1740063600@www.redeemerchurch.org
SUMMARY:Sisters of Joy @Friendship Diner
DESCRIPTION:
URL:https://www.redeemerchurch.org/event/sisters-of-joy-friendship-diner-4/
LOCATION:834 Tutor Ln\nEvansville\, IN\, United States
END:VEVENT
BEGIN:VEVENT
DTSTART;TZID=America/Chicago:20250223T080000
DTEND;TZID=America/Chicago:20250223T090000
DTSTAMP:20260419T202627
CREATED:20240923T205127Z
LAST-MODIFIED:20250120T233022Z
UID:10000813-1740297600-1740301200@www.redeemerchurch.org
SUMMARY:Traditional Worship @EVV
DESCRIPTION:
URL:https://www.redeemerchurch.org/event/traditional-worship-evv-44/
LOCATION:Lutheran Church of Our Redeemer\, 1799 Lincoln Ave\, Evansville\, IN\, United States
GEO:37.969944;-87.532398
X-APPLE-STRUCTURED-LOCATION;VALUE=URI;X-ADDRESS=Lutheran Church of Our Redeemer 1799 Lincoln Ave Evansville IN United States;X-APPLE-RADIUS=500;X-TITLE=1799 Lincoln Ave:geo:-87.532398,37.969944
END:VEVENT
BEGIN:VEVENT
DTSTART;TZID=America/Chicago:20250223T091500
DTEND;TZID=America/Chicago:20250223T101500
DTSTAMP:20260419T202627
CREATED:20240923T205127Z
LAST-MODIFIED:20250120T233022Z
UID:10000944-1740302100-1740305700@www.redeemerchurch.org
SUMMARY:SML!\, MS & Youth Bible Study
DESCRIPTION:
URL:https://www.redeemerchurch.org/event/sml-ms-youth-bible-study-23/
END:VEVENT
BEGIN:VEVENT
DTSTART;TZID=America/Chicago:20250223T091500
DTEND;TZID=America/Chicago:20250223T101500
DTSTAMP:20260419T202627
CREATED:20240930T210046Z
LAST-MODIFIED:20250120T233022Z
UID:10000946-1740302100-1740305700@www.redeemerchurch.org
SUMMARY:Online & In-Person Adult Bible Study
DESCRIPTION:
URL:https://www.redeemerchurch.org/event/online-in-person-adult-bible-study-23/
LOCATION:Lutheran Church of Our Redeemer\, 1799 Lincoln Ave\, Evansville\, IN\, United States
GEO:37.969944;-87.532398
X-APPLE-STRUCTURED-LOCATION;VALUE=URI;X-ADDRESS=Lutheran Church of Our Redeemer 1799 Lincoln Ave Evansville IN United States;X-APPLE-RADIUS=500;X-TITLE=1799 Lincoln Ave:geo:-87.532398,37.969944
END:VEVENT
BEGIN:VEVENT
DTSTART;TZID=America/Chicago:20250223T103000
DTEND;TZID=America/Chicago:20250223T113000
DTSTAMP:20260419T202627
CREATED:20240930T210046Z
LAST-MODIFIED:20250120T233022Z
UID:10000947-1740306600-1740310200@www.redeemerchurch.org
SUMMARY:Traditional Worship @EVV
DESCRIPTION:
URL:https://www.redeemerchurch.org/event/traditional-worship-evv-45/
LOCATION:Lutheran Church of Our Redeemer\, 1799 Lincoln Ave\, Evansville\, IN\, United States
GEO:37.969944;-87.532398
X-APPLE-STRUCTURED-LOCATION;VALUE=URI;X-ADDRESS=Lutheran Church of Our Redeemer 1799 Lincoln Ave Evansville IN United States;X-APPLE-RADIUS=500;X-TITLE=1799 Lincoln Ave:geo:-87.532398,37.969944
END:VEVENT
BEGIN:VEVENT
DTSTART;TZID=America/Chicago:20250223T113000
DTEND;TZID=America/Chicago:20250223T123000
DTSTAMP:20260419T202627
CREATED:20240930T210046Z
LAST-MODIFIED:20250120T233022Z
UID:10000948-1740310200-1740313800@www.redeemerchurch.org
SUMMARY:Worship @Newburgh
DESCRIPTION:
URL:https://www.redeemerchurch.org/event/worship-newburgh-23/
LOCATION:Redeemer Newburgh\, 7811 Oak Grove Rd\, Newburgh\, IN\, United States
GEO:37.990953;-87.391948
X-APPLE-STRUCTURED-LOCATION;VALUE=URI;X-ADDRESS=Redeemer Newburgh 7811 Oak Grove Rd Newburgh IN United States;X-APPLE-RADIUS=500;X-TITLE=7811 Oak Grove Rd:geo:-87.391948,37.990953
END:VEVENT
BEGIN:VEVENT
DTSTART;TZID=America/Chicago:20250223T160000
DTEND;TZID=America/Chicago:20250223T173000
DTSTAMP:20260419T202627
CREATED:20240930T210046Z
LAST-MODIFIED:20250120T233022Z
UID:10000949-1740326400-1740331800@www.redeemerchurch.org
SUMMARY:Faith in Action Pickleball@UE
DESCRIPTION:
URL:https://www.redeemerchurch.org/event/faith-in-action-pickleballue-18/
END:VEVENT
BEGIN:VEVENT
DTSTART;TZID=America/Chicago:20250224T113000
DTEND;TZID=America/Chicago:20250224T130000
DTSTAMP:20260419T202627
CREATED:20240930T210046Z
LAST-MODIFIED:20250120T233022Z
UID:10000950-1740396600-1740402000@www.redeemerchurch.org
SUMMARY:Seniors Lunch
DESCRIPTION:FH 1811 Lincoln Ave\, Evansville\, IN 47714\, USA
URL:https://www.redeemerchurch.org/event/seniors-lunch-6/
LOCATION:Lutheran Church of Our Redeemer\, 1799 Lincoln Ave\, Evansville\, IN\, United States
GEO:37.969944;-87.532398
X-APPLE-STRUCTURED-LOCATION;VALUE=URI;X-ADDRESS=Lutheran Church of Our Redeemer 1799 Lincoln Ave Evansville IN United States;X-APPLE-RADIUS=500;X-TITLE=1799 Lincoln Ave:geo:-87.532398,37.969944
END:VEVENT
BEGIN:VEVENT
DTSTART;TZID=America/Chicago:20250224T150000
DTEND;TZID=America/Chicago:20250224T153000
DTSTAMP:20260419T202627
CREATED:20241216T220523Z
LAST-MODIFIED:20250120T233022Z
UID:10001140-1740409200-1740411000@www.redeemerchurch.org
SUMMARY:Monday Night Prayer Group
DESCRIPTION:
URL:https://www.redeemerchurch.org/event/monday-night-prayer-group-47/
LOCATION:Redeemer Newburgh\, 7811 Oak Grove Rd\, Newburgh\, IN\, United States
GEO:37.990953;-87.391948
X-APPLE-STRUCTURED-LOCATION;VALUE=URI;X-ADDRESS=Redeemer Newburgh 7811 Oak Grove Rd Newburgh IN United States;X-APPLE-RADIUS=500;X-TITLE=7811 Oak Grove Rd:geo:-87.391948,37.990953
END:VEVENT
BEGIN:VEVENT
DTSTART;TZID=America/Chicago:20250224T160000
DTEND;TZID=America/Chicago:20250224T163000
DTSTAMP:20260419T202627
CREATED:20240930T210047Z
LAST-MODIFIED:20241209T220228Z
UID:10000951-1740412800-1740414600@www.redeemerchurch.org
SUMMARY:Monday Night Prayer Group
DESCRIPTION:
URL:https://www.redeemerchurch.org/event/monday-night-prayer-group-24/
LOCATION:Redeemer Newburgh\, 7811 Oak Grove Rd\, Newburgh\, IN\, United States
GEO:37.990953;-87.391948
X-APPLE-STRUCTURED-LOCATION;VALUE=URI;X-ADDRESS=Redeemer Newburgh 7811 Oak Grove Rd Newburgh IN United States;X-APPLE-RADIUS=500;X-TITLE=7811 Oak Grove Rd:geo:-87.391948,37.990953
END:VEVENT
BEGIN:VEVENT
DTSTART;TZID=America/Chicago:20250225T173000
DTEND;TZID=America/Chicago:20250225T183000
DTSTAMP:20260419T202628
CREATED:20240930T210047Z
LAST-MODIFIED:20250120T233022Z
UID:10000953-1740504600-1740508200@www.redeemerchurch.org
SUMMARY:Faith in Action Tuesday Encounter
DESCRIPTION:Bible Study in Upstairs Ridgway
URL:https://www.redeemerchurch.org/event/faith-in-action-tuesday-encounter-23/
LOCATION:Ridgway University Center\, 1001 E Walnut St\, Evansville\, IN\, United States
GEO:37.973579;-87.547699
X-APPLE-STRUCTURED-LOCATION;VALUE=URI;X-ADDRESS=Ridgway University Center 1001 E Walnut St Evansville IN United States;X-APPLE-RADIUS=500;X-TITLE=1001 E Walnut St:geo:-87.547699,37.973579
END:VEVENT
BEGIN:VEVENT
DTSTART;TZID=America/Chicago:20250225T173000
DTEND;TZID=America/Chicago:20250225T183000
DTSTAMP:20260419T202628
CREATED:20240930T210047Z
LAST-MODIFIED:20250120T233022Z
UID:10000952-1740504600-1740508200@www.redeemerchurch.org
SUMMARY:Women's Evening Bible Study @Oaklyn Library\, Study Rm B
DESCRIPTION:
URL:https://www.redeemerchurch.org/event/womens-evening-bible-study-oaklyn-library-study-rm-b-23/
LOCATION:3001 Oaklyn Dr\nEvansville\, IN\, United States
END:VEVENT
BEGIN:VEVENT
DTSTART;TZID=America/Chicago:20250226T183000
DTEND;TZID=America/Chicago:20250226T193000
DTSTAMP:20260419T202628
CREATED:20240930T210047Z
LAST-MODIFIED:20250120T233022Z
UID:10000954-1740594600-1740598200@www.redeemerchurch.org
SUMMARY:Choir Practice
DESCRIPTION:
URL:https://www.redeemerchurch.org/event/choir-practice-24/
LOCATION:Lutheran Church of Our Redeemer\, 1799 Lincoln Ave\, Evansville\, IN\, United States
GEO:37.969944;-87.532398
X-APPLE-STRUCTURED-LOCATION;VALUE=URI;X-ADDRESS=Lutheran Church of Our Redeemer 1799 Lincoln Ave Evansville IN United States;X-APPLE-RADIUS=500;X-TITLE=1799 Lincoln Ave:geo:-87.532398,37.969944
END:VEVENT
BEGIN:VEVENT
DTSTART;TZID=America/Chicago:20250227T120000
DTEND;TZID=America/Chicago:20250227T130000
DTSTAMP:20260419T202628
CREATED:20240930T210047Z
LAST-MODIFIED:20250120T233022Z
UID:10000955-1740657600-1740661200@www.redeemerchurch.org
SUMMARY:Backyard Bible Study
DESCRIPTION:On Facebook
URL:https://www.redeemerchurch.org/event/backyard-bible-study-24/
LOCATION:https://www.facebook.com/RedeemerEvansville
END:VEVENT
BEGIN:VEVENT
DTSTART;TZID=America/Chicago:20250301T073000
DTEND;TZID=America/Chicago:20250301T090000
DTSTAMP:20260419T202628
CREATED:20240930T210047Z
LAST-MODIFIED:20250120T233022Z
UID:10000956-1740814200-1740819600@www.redeemerchurch.org
SUMMARY:Men's Breakfast & Bible Study
DESCRIPTION:BREAKFAST WILL BE SERVED!! New start time & place as of 5/1/21 – Redeemer NWB\, 7:30
URL:https://www.redeemerchurch.org/event/mens-breakfast-bible-study-6/
LOCATION:Redeemer Newburgh\, 7811 Oak Grove Rd\, Newburgh\, IN\, United States
GEO:37.990953;-87.391948
X-APPLE-STRUCTURED-LOCATION;VALUE=URI;X-ADDRESS=Redeemer Newburgh 7811 Oak Grove Rd Newburgh IN United States;X-APPLE-RADIUS=500;X-TITLE=7811 Oak Grove Rd:geo:-87.391948,37.990953
END:VEVENT
BEGIN:VEVENT
DTSTART;TZID=America/Chicago:20250302T080000
DTEND;TZID=America/Chicago:20250302T090000
DTSTAMP:20260419T202628
CREATED:20240930T210047Z
LAST-MODIFIED:20250120T233022Z
UID:10000957-1740902400-1740906000@www.redeemerchurch.org
SUMMARY:Traditional Worship @EVV
DESCRIPTION:
URL:https://www.redeemerchurch.org/event/traditional-worship-evv-46/
LOCATION:Lutheran Church of Our Redeemer\, 1799 Lincoln Ave\, Evansville\, IN\, United States
GEO:37.969944;-87.532398
X-APPLE-STRUCTURED-LOCATION;VALUE=URI;X-ADDRESS=Lutheran Church of Our Redeemer 1799 Lincoln Ave Evansville IN United States;X-APPLE-RADIUS=500;X-TITLE=1799 Lincoln Ave:geo:-87.532398,37.969944
END:VEVENT
BEGIN:VEVENT
DTSTART;TZID=America/Chicago:20250302T091500
DTEND;TZID=America/Chicago:20250302T101500
DTSTAMP:20260419T202628
CREATED:20240930T210048Z
LAST-MODIFIED:20250120T233023Z
UID:10000958-1740906900-1740910500@www.redeemerchurch.org
SUMMARY:Online & In-Person Adult Bible Study
DESCRIPTION:
URL:https://www.redeemerchurch.org/event/online-in-person-adult-bible-study-24/
LOCATION:Lutheran Church of Our Redeemer\, 1799 Lincoln Ave\, Evansville\, IN\, United States
GEO:37.969944;-87.532398
X-APPLE-STRUCTURED-LOCATION;VALUE=URI;X-ADDRESS=Lutheran Church of Our Redeemer 1799 Lincoln Ave Evansville IN United States;X-APPLE-RADIUS=500;X-TITLE=1799 Lincoln Ave:geo:-87.532398,37.969944
END:VEVENT
BEGIN:VEVENT
DTSTART;TZID=America/Chicago:20250302T091500
DTEND;TZID=America/Chicago:20250302T101500
DTSTAMP:20260419T202628
CREATED:20240930T210048Z
LAST-MODIFIED:20250120T233023Z
UID:10000959-1740906900-1740910500@www.redeemerchurch.org
SUMMARY:SML!\, MS & Youth Bible Study
DESCRIPTION:
URL:https://www.redeemerchurch.org/event/sml-ms-youth-bible-study-24/
END:VEVENT
BEGIN:VEVENT
DTSTART;TZID=America/Chicago:20250302T103000
DTEND;TZID=America/Chicago:20250302T113000
DTSTAMP:20260419T202628
CREATED:20240930T210048Z
LAST-MODIFIED:20250120T233023Z
UID:10000960-1740911400-1740915000@www.redeemerchurch.org
SUMMARY:Traditional Worship @EVV
DESCRIPTION:
URL:https://www.redeemerchurch.org/event/traditional-worship-evv-47/
LOCATION:Lutheran Church of Our Redeemer\, 1799 Lincoln Ave\, Evansville\, IN\, United States
GEO:37.969944;-87.532398
X-APPLE-STRUCTURED-LOCATION;VALUE=URI;X-ADDRESS=Lutheran Church of Our Redeemer 1799 Lincoln Ave Evansville IN United States;X-APPLE-RADIUS=500;X-TITLE=1799 Lincoln Ave:geo:-87.532398,37.969944
END:VEVENT
BEGIN:VEVENT
DTSTART;TZID=America/Chicago:20250302T113000
DTEND;TZID=America/Chicago:20250302T123000
DTSTAMP:20260419T202628
CREATED:20240930T210048Z
LAST-MODIFIED:20250120T233023Z
UID:10000961-1740915000-1740918600@www.redeemerchurch.org
SUMMARY:Worship @Newburgh
DESCRIPTION:
URL:https://www.redeemerchurch.org/event/worship-newburgh-24/
LOCATION:Redeemer Newburgh\, 7811 Oak Grove Rd\, Newburgh\, IN\, United States
GEO:37.990953;-87.391948
X-APPLE-STRUCTURED-LOCATION;VALUE=URI;X-ADDRESS=Redeemer Newburgh 7811 Oak Grove Rd Newburgh IN United States;X-APPLE-RADIUS=500;X-TITLE=7811 Oak Grove Rd:geo:-87.391948,37.990953
END:VEVENT
BEGIN:VEVENT
DTSTART;TZID=America/Chicago:20250302T160000
DTEND;TZID=America/Chicago:20250302T173000
DTSTAMP:20260419T202628
CREATED:20241007T211558Z
LAST-MODIFIED:20250120T233023Z
UID:10000962-1740931200-1740936600@www.redeemerchurch.org
SUMMARY:Faith in Action Pickleball@UE
DESCRIPTION:
URL:https://www.redeemerchurch.org/event/faith-in-action-pickleballue-19/
END:VEVENT
END:VCALENDAR