BEGIN:VCALENDAR
VERSION:2.0
PRODID:-//Lutheran Church of Our Redeemer - ECPv6.15.20//NONSGML v1.0//EN
CALSCALE:GREGORIAN
METHOD:PUBLISH
X-ORIGINAL-URL:https://www.redeemerchurch.org
X-WR-CALDESC:Events for Lutheran Church of Our Redeemer
REFRESH-INTERVAL;VALUE=DURATION:PT1H
X-Robots-Tag:noindex
X-PUBLISHED-TTL:PT1H
BEGIN:VTIMEZONE
TZID:America/Chicago
BEGIN:DAYLIGHT
TZOFFSETFROM:-0600
TZOFFSETTO:-0500
TZNAME:CDT
DTSTART:20240310T080000
END:DAYLIGHT
BEGIN:STANDARD
TZOFFSETFROM:-0500
TZOFFSETTO:-0600
TZNAME:CST
DTSTART:20241103T070000
END:STANDARD
BEGIN:DAYLIGHT
TZOFFSETFROM:-0600
TZOFFSETTO:-0500
TZNAME:CDT
DTSTART:20250309T080000
END:DAYLIGHT
BEGIN:STANDARD
TZOFFSETFROM:-0500
TZOFFSETTO:-0600
TZNAME:CST
DTSTART:20251102T070000
END:STANDARD
BEGIN:DAYLIGHT
TZOFFSETFROM:-0600
TZOFFSETTO:-0500
TZNAME:CDT
DTSTART:20260308T080000
END:DAYLIGHT
BEGIN:STANDARD
TZOFFSETFROM:-0500
TZOFFSETTO:-0600
TZNAME:CST
DTSTART:20261101T070000
END:STANDARD
END:VTIMEZONE
BEGIN:VEVENT
DTSTART;TZID=America/Chicago:20250323T091500
DTEND;TZID=America/Chicago:20250323T101500
DTSTAMP:20260419T204236
CREATED:20241021T213222Z
LAST-MODIFIED:20250120T233024Z
UID:10000866-1742721300-1742724900@www.redeemerchurch.org
SUMMARY:Online & In-Person Adult Bible Study
DESCRIPTION:
URL:https://www.redeemerchurch.org/event/online-in-person-adult-bible-study-27/
LOCATION:Lutheran Church of Our Redeemer\, 1799 Lincoln Ave\, Evansville\, IN\, United States
GEO:37.969944;-87.532398
X-APPLE-STRUCTURED-LOCATION;VALUE=URI;X-ADDRESS=Lutheran Church of Our Redeemer 1799 Lincoln Ave Evansville IN United States;X-APPLE-RADIUS=500;X-TITLE=1799 Lincoln Ave:geo:-87.532398,37.969944
END:VEVENT
BEGIN:VEVENT
DTSTART;TZID=America/Chicago:20250323T103000
DTEND;TZID=America/Chicago:20250323T113000
DTSTAMP:20260419T204237
CREATED:20241021T213223Z
LAST-MODIFIED:20250120T233024Z
UID:10001008-1742725800-1742729400@www.redeemerchurch.org
SUMMARY:Traditional Worship @EVV
DESCRIPTION:
URL:https://www.redeemerchurch.org/event/traditional-worship-evv-53/
LOCATION:Lutheran Church of Our Redeemer\, 1799 Lincoln Ave\, Evansville\, IN\, United States
GEO:37.969944;-87.532398
X-APPLE-STRUCTURED-LOCATION;VALUE=URI;X-ADDRESS=Lutheran Church of Our Redeemer 1799 Lincoln Ave Evansville IN United States;X-APPLE-RADIUS=500;X-TITLE=1799 Lincoln Ave:geo:-87.532398,37.969944
END:VEVENT
BEGIN:VEVENT
DTSTART;TZID=America/Chicago:20250323T113000
DTEND;TZID=America/Chicago:20250323T123000
DTSTAMP:20260419T204237
CREATED:20241021T213223Z
LAST-MODIFIED:20250120T233024Z
UID:10001007-1742729400-1742733000@www.redeemerchurch.org
SUMMARY:Worship @Newburgh
DESCRIPTION:
URL:https://www.redeemerchurch.org/event/worship-newburgh-27/
LOCATION:Redeemer Newburgh\, 7811 Oak Grove Rd\, Newburgh\, IN\, United States
GEO:37.990953;-87.391948
X-APPLE-STRUCTURED-LOCATION;VALUE=URI;X-ADDRESS=Redeemer Newburgh 7811 Oak Grove Rd Newburgh IN United States;X-APPLE-RADIUS=500;X-TITLE=7811 Oak Grove Rd:geo:-87.391948,37.990953
END:VEVENT
BEGIN:VEVENT
DTSTART;TZID=America/Chicago:20250323T160000
DTEND;TZID=America/Chicago:20250323T173000
DTSTAMP:20260419T204237
CREATED:20241021T213223Z
LAST-MODIFIED:20250120T233024Z
UID:10001009-1742745600-1742751000@www.redeemerchurch.org
SUMMARY:Faith in Action Pickleball@UE
DESCRIPTION:
URL:https://www.redeemerchurch.org/event/faith-in-action-pickleballue-20/
LOCATION:IN
END:VEVENT
BEGIN:VEVENT
DTSTART;TZID=America/Chicago:20250324T113000
DTEND;TZID=America/Chicago:20250324T130000
DTSTAMP:20260419T204237
CREATED:20241021T213223Z
LAST-MODIFIED:20250120T233025Z
UID:10001010-1742815800-1742821200@www.redeemerchurch.org
SUMMARY:Seniors Lunch
DESCRIPTION:FH 1811 Lincoln Ave\, Evansville\, IN 47714\, USA
URL:https://www.redeemerchurch.org/event/seniors-lunch-7/
LOCATION:Lutheran Church of Our Redeemer\, 1799 Lincoln Ave\, Evansville\, IN\, United States
GEO:37.969944;-87.532398
X-APPLE-STRUCTURED-LOCATION;VALUE=URI;X-ADDRESS=Lutheran Church of Our Redeemer 1799 Lincoln Ave Evansville IN United States;X-APPLE-RADIUS=500;X-TITLE=1799 Lincoln Ave:geo:-87.532398,37.969944
END:VEVENT
BEGIN:VEVENT
DTSTART;TZID=America/Chicago:20250324T150000
DTEND;TZID=America/Chicago:20250324T153000
DTSTAMP:20260419T204237
CREATED:20241216T220525Z
LAST-MODIFIED:20250120T233025Z
UID:10001144-1742828400-1742830200@www.redeemerchurch.org
SUMMARY:Monday Night Prayer Group
DESCRIPTION:
URL:https://www.redeemerchurch.org/event/monday-night-prayer-group-51/
LOCATION:Redeemer Newburgh\, 7811 Oak Grove Rd\, Newburgh\, IN\, United States
GEO:37.990953;-87.391948
X-APPLE-STRUCTURED-LOCATION;VALUE=URI;X-ADDRESS=Redeemer Newburgh 7811 Oak Grove Rd Newburgh IN United States;X-APPLE-RADIUS=500;X-TITLE=7811 Oak Grove Rd:geo:-87.391948,37.990953
END:VEVENT
BEGIN:VEVENT
DTSTART;TZID=America/Chicago:20250324T160000
DTEND;TZID=America/Chicago:20250324T163000
DTSTAMP:20260419T204237
CREATED:20241021T213223Z
LAST-MODIFIED:20241209T220231Z
UID:10001011-1742832000-1742833800@www.redeemerchurch.org
SUMMARY:Monday Night Prayer Group
DESCRIPTION:
URL:https://www.redeemerchurch.org/event/monday-night-prayer-group-28/
LOCATION:Redeemer Newburgh\, 7811 Oak Grove Rd\, Newburgh\, IN\, United States
GEO:37.990953;-87.391948
X-APPLE-STRUCTURED-LOCATION;VALUE=URI;X-ADDRESS=Redeemer Newburgh 7811 Oak Grove Rd Newburgh IN United States;X-APPLE-RADIUS=500;X-TITLE=7811 Oak Grove Rd:geo:-87.391948,37.990953
END:VEVENT
BEGIN:VEVENT
DTSTART;TZID=America/Chicago:20250325T173000
DTEND;TZID=America/Chicago:20250325T183000
DTSTAMP:20260419T204237
CREATED:20241021T213223Z
LAST-MODIFIED:20250120T233025Z
UID:10001012-1742923800-1742927400@www.redeemerchurch.org
SUMMARY:Women's Evening Bible Study @Oaklyn Library\, Study Rm B
DESCRIPTION:
URL:https://www.redeemerchurch.org/event/womens-evening-bible-study-oaklyn-library-study-rm-b-27/
LOCATION:3001 Oaklyn Dr\nEvansville\, IN\, United States
END:VEVENT
BEGIN:VEVENT
DTSTART;TZID=America/Chicago:20250325T173000
DTEND;TZID=America/Chicago:20250325T183000
DTSTAMP:20260419T204237
CREATED:20241021T213223Z
LAST-MODIFIED:20250120T233025Z
UID:10001013-1742923800-1742927400@www.redeemerchurch.org
SUMMARY:Faith in Action Tuesday Encounter
DESCRIPTION:Bible Study in Upstairs Ridgway
URL:https://www.redeemerchurch.org/event/faith-in-action-tuesday-encounter-27/
LOCATION:Ridgway University Center\, 1001 E Walnut St\, Evansville\, IN\, United States
GEO:37.973579;-87.547699
X-APPLE-STRUCTURED-LOCATION;VALUE=URI;X-ADDRESS=Ridgway University Center 1001 E Walnut St Evansville IN United States;X-APPLE-RADIUS=500;X-TITLE=1001 E Walnut St:geo:-87.547699,37.973579
END:VEVENT
BEGIN:VEVENT
DTSTART;TZID=America/Chicago:20250326T190000
DTEND;TZID=America/Chicago:20250326T200000
DTSTAMP:20260419T204237
CREATED:20241021T213224Z
LAST-MODIFIED:20250120T233025Z
UID:10001014-1743015600-1743019200@www.redeemerchurch.org
SUMMARY:Choir Practice
DESCRIPTION:
URL:https://www.redeemerchurch.org/event/choir-practice-28/
LOCATION:Lutheran Church of Our Redeemer\, 1799 Lincoln Ave\, Evansville\, IN\, United States
GEO:37.969944;-87.532398
X-APPLE-STRUCTURED-LOCATION;VALUE=URI;X-ADDRESS=Lutheran Church of Our Redeemer 1799 Lincoln Ave Evansville IN United States;X-APPLE-RADIUS=500;X-TITLE=1799 Lincoln Ave:geo:-87.532398,37.969944
END:VEVENT
BEGIN:VEVENT
DTSTART;TZID=America/Chicago:20250327T120000
DTEND;TZID=America/Chicago:20250327T130000
DTSTAMP:20260419T204237
CREATED:20241021T213224Z
LAST-MODIFIED:20250120T233025Z
UID:10001015-1743076800-1743080400@www.redeemerchurch.org
SUMMARY:Backyard Bible Study
DESCRIPTION:On Facebook
URL:https://www.redeemerchurch.org/event/backyard-bible-study-28/
LOCATION:https://www.facebook.com/RedeemerEvansville
END:VEVENT
BEGIN:VEVENT
DTSTART;TZID=America/Chicago:20250330T080000
DTEND;TZID=America/Chicago:20250330T090000
DTSTAMP:20260419T204237
CREATED:20241021T213224Z
LAST-MODIFIED:20250120T233025Z
UID:10001016-1743321600-1743325200@www.redeemerchurch.org
SUMMARY:Traditional Worship @EVV
DESCRIPTION:
URL:https://www.redeemerchurch.org/event/traditional-worship-evv-54/
LOCATION:Lutheran Church of Our Redeemer\, 1799 Lincoln Ave\, Evansville\, IN\, United States
GEO:37.969944;-87.532398
X-APPLE-STRUCTURED-LOCATION;VALUE=URI;X-ADDRESS=Lutheran Church of Our Redeemer 1799 Lincoln Ave Evansville IN United States;X-APPLE-RADIUS=500;X-TITLE=1799 Lincoln Ave:geo:-87.532398,37.969944
END:VEVENT
BEGIN:VEVENT
DTSTART;TZID=America/Chicago:20250330T091500
DTEND;TZID=America/Chicago:20250330T101500
DTSTAMP:20260419T204237
CREATED:20241021T213224Z
LAST-MODIFIED:20250120T233025Z
UID:10001017-1743326100-1743329700@www.redeemerchurch.org
SUMMARY:Online & In-Person Adult Bible Study
DESCRIPTION:
URL:https://www.redeemerchurch.org/event/online-in-person-adult-bible-study-28/
LOCATION:Lutheran Church of Our Redeemer\, 1799 Lincoln Ave\, Evansville\, IN\, United States
GEO:37.969944;-87.532398
X-APPLE-STRUCTURED-LOCATION;VALUE=URI;X-ADDRESS=Lutheran Church of Our Redeemer 1799 Lincoln Ave Evansville IN United States;X-APPLE-RADIUS=500;X-TITLE=1799 Lincoln Ave:geo:-87.532398,37.969944
END:VEVENT
BEGIN:VEVENT
DTSTART;TZID=America/Chicago:20250330T091500
DTEND;TZID=America/Chicago:20250330T101500
DTSTAMP:20260419T204237
CREATED:20241021T213224Z
LAST-MODIFIED:20250120T233025Z
UID:10001018-1743326100-1743329700@www.redeemerchurch.org
SUMMARY:SML!\, MS & Youth Bible Study
DESCRIPTION:
URL:https://www.redeemerchurch.org/event/sml-ms-youth-bible-study-28/
LOCATION:IN
END:VEVENT
BEGIN:VEVENT
DTSTART;TZID=America/Chicago:20250330T103000
DTEND;TZID=America/Chicago:20250330T113000
DTSTAMP:20260419T204237
CREATED:20241021T213224Z
LAST-MODIFIED:20250120T233025Z
UID:10001020-1743330600-1743334200@www.redeemerchurch.org
SUMMARY:Traditional Worship @EVV
DESCRIPTION:
URL:https://www.redeemerchurch.org/event/traditional-worship-evv-55/
LOCATION:Lutheran Church of Our Redeemer\, 1799 Lincoln Ave\, Evansville\, IN\, United States
GEO:37.969944;-87.532398
X-APPLE-STRUCTURED-LOCATION;VALUE=URI;X-ADDRESS=Lutheran Church of Our Redeemer 1799 Lincoln Ave Evansville IN United States;X-APPLE-RADIUS=500;X-TITLE=1799 Lincoln Ave:geo:-87.532398,37.969944
END:VEVENT
BEGIN:VEVENT
DTSTART;TZID=America/Chicago:20250330T113000
DTEND;TZID=America/Chicago:20250330T123000
DTSTAMP:20260419T204237
CREATED:20241021T213224Z
LAST-MODIFIED:20250120T233025Z
UID:10001019-1743334200-1743337800@www.redeemerchurch.org
SUMMARY:Worship @Newburgh
DESCRIPTION:
URL:https://www.redeemerchurch.org/event/worship-newburgh-28/
LOCATION:Redeemer Newburgh\, 7811 Oak Grove Rd\, Newburgh\, IN\, United States
GEO:37.990953;-87.391948
X-APPLE-STRUCTURED-LOCATION;VALUE=URI;X-ADDRESS=Redeemer Newburgh 7811 Oak Grove Rd Newburgh IN United States;X-APPLE-RADIUS=500;X-TITLE=7811 Oak Grove Rd:geo:-87.391948,37.990953
END:VEVENT
BEGIN:VEVENT
DTSTART;TZID=America/Chicago:20250330T160000
DTEND;TZID=America/Chicago:20250330T173000
DTSTAMP:20260419T204237
CREATED:20241021T213224Z
LAST-MODIFIED:20250120T233025Z
UID:10001021-1743350400-1743355800@www.redeemerchurch.org
SUMMARY:Faith in Action Pickleball@UE
DESCRIPTION:
URL:https://www.redeemerchurch.org/event/faith-in-action-pickleballue-21/
LOCATION:IN
END:VEVENT
BEGIN:VEVENT
DTSTART;TZID=America/Chicago:20250331T150000
DTEND;TZID=America/Chicago:20250331T153000
DTSTAMP:20260419T204237
CREATED:20241216T220526Z
LAST-MODIFIED:20250120T233025Z
UID:10001145-1743433200-1743435000@www.redeemerchurch.org
SUMMARY:Monday Night Prayer Group
DESCRIPTION:
URL:https://www.redeemerchurch.org/event/monday-night-prayer-group-52/
LOCATION:Redeemer Newburgh\, 7811 Oak Grove Rd\, Newburgh\, IN\, United States
GEO:37.990953;-87.391948
X-APPLE-STRUCTURED-LOCATION;VALUE=URI;X-ADDRESS=Redeemer Newburgh 7811 Oak Grove Rd Newburgh IN United States;X-APPLE-RADIUS=500;X-TITLE=7811 Oak Grove Rd:geo:-87.391948,37.990953
END:VEVENT
BEGIN:VEVENT
DTSTART;TZID=America/Chicago:20250331T160000
DTEND;TZID=America/Chicago:20250331T163000
DTSTAMP:20260419T204237
CREATED:20241028T213902Z
LAST-MODIFIED:20241209T220231Z
UID:10001022-1743436800-1743438600@www.redeemerchurch.org
SUMMARY:Monday Night Prayer Group
DESCRIPTION:
URL:https://www.redeemerchurch.org/event/monday-night-prayer-group-29/
LOCATION:Redeemer Newburgh\, 7811 Oak Grove Rd\, Newburgh\, IN\, United States
GEO:37.990953;-87.391948
X-APPLE-STRUCTURED-LOCATION;VALUE=URI;X-ADDRESS=Redeemer Newburgh 7811 Oak Grove Rd Newburgh IN United States;X-APPLE-RADIUS=500;X-TITLE=7811 Oak Grove Rd:geo:-87.391948,37.990953
END:VEVENT
BEGIN:VEVENT
DTSTART;TZID=America/Chicago:20250401T173000
DTEND;TZID=America/Chicago:20250401T183000
DTSTAMP:20260419T204237
CREATED:20241028T213903Z
LAST-MODIFIED:20250120T233025Z
UID:10001023-1743528600-1743532200@www.redeemerchurch.org
SUMMARY:Women's Evening Bible Study @Oaklyn Library\, Study Rm B
DESCRIPTION:
URL:https://www.redeemerchurch.org/event/womens-evening-bible-study-oaklyn-library-study-rm-b-28/
LOCATION:3001 Oaklyn Dr\nEvansville\, IN\, United States
END:VEVENT
BEGIN:VEVENT
DTSTART;TZID=America/Chicago:20250401T173000
DTEND;TZID=America/Chicago:20250401T183000
DTSTAMP:20260419T204237
CREATED:20241028T213903Z
LAST-MODIFIED:20250120T233025Z
UID:10001024-1743528600-1743532200@www.redeemerchurch.org
SUMMARY:Faith in Action Tuesday Encounter
DESCRIPTION:Bible Study in Upstairs Ridgway
URL:https://www.redeemerchurch.org/event/faith-in-action-tuesday-encounter-28/
LOCATION:Ridgway University Center\, 1001 E Walnut St\, Evansville\, IN\, United States
GEO:37.973579;-87.547699
X-APPLE-STRUCTURED-LOCATION;VALUE=URI;X-ADDRESS=Ridgway University Center 1001 E Walnut St Evansville IN United States;X-APPLE-RADIUS=500;X-TITLE=1001 E Walnut St:geo:-87.547699,37.973579
END:VEVENT
BEGIN:VEVENT
DTSTART;TZID=America/Chicago:20250402T190000
DTEND;TZID=America/Chicago:20250402T200000
DTSTAMP:20260419T204237
CREATED:20241028T213903Z
LAST-MODIFIED:20250120T233025Z
UID:10001025-1743620400-1743624000@www.redeemerchurch.org
SUMMARY:Choir Practice
DESCRIPTION:
URL:https://www.redeemerchurch.org/event/choir-practice-29/
LOCATION:Lutheran Church of Our Redeemer\, 1799 Lincoln Ave\, Evansville\, IN\, United States
GEO:37.969944;-87.532398
X-APPLE-STRUCTURED-LOCATION;VALUE=URI;X-ADDRESS=Lutheran Church of Our Redeemer 1799 Lincoln Ave Evansville IN United States;X-APPLE-RADIUS=500;X-TITLE=1799 Lincoln Ave:geo:-87.532398,37.969944
END:VEVENT
BEGIN:VEVENT
DTSTART;TZID=America/Chicago:20250403T120000
DTEND;TZID=America/Chicago:20250403T130000
DTSTAMP:20260419T204237
CREATED:20241028T213903Z
LAST-MODIFIED:20250120T233025Z
UID:10001026-1743681600-1743685200@www.redeemerchurch.org
SUMMARY:Backyard Bible Study
DESCRIPTION:On Facebook
URL:https://www.redeemerchurch.org/event/backyard-bible-study-29/
LOCATION:https://www.facebook.com/RedeemerEvansville
END:VEVENT
BEGIN:VEVENT
DTSTART;TZID=America/Chicago:20250405T073000
DTEND;TZID=America/Chicago:20250405T090000
DTSTAMP:20260419T204237
CREATED:20241028T213903Z
LAST-MODIFIED:20250120T233025Z
UID:10001027-1743838200-1743843600@www.redeemerchurch.org
SUMMARY:Men's Breakfast & Bible Study
DESCRIPTION:BREAKFAST WILL BE SERVED!! New start time & place as of 5/1/21 – Redeemer NWB\, 7:30
URL:https://www.redeemerchurch.org/event/mens-breakfast-bible-study-7/
LOCATION:Redeemer Newburgh\, 7811 Oak Grove Rd\, Newburgh\, IN\, United States
GEO:37.990953;-87.391948
X-APPLE-STRUCTURED-LOCATION;VALUE=URI;X-ADDRESS=Redeemer Newburgh 7811 Oak Grove Rd Newburgh IN United States;X-APPLE-RADIUS=500;X-TITLE=7811 Oak Grove Rd:geo:-87.391948,37.990953
END:VEVENT
BEGIN:VEVENT
DTSTART;TZID=America/Chicago:20250406T080000
DTEND;TZID=America/Chicago:20250406T090000
DTSTAMP:20260419T204237
CREATED:20241028T213904Z
LAST-MODIFIED:20250120T233026Z
UID:10001028-1743926400-1743930000@www.redeemerchurch.org
SUMMARY:Traditional Worship @EVV
DESCRIPTION:
URL:https://www.redeemerchurch.org/event/traditional-worship-evv-56/
LOCATION:Lutheran Church of Our Redeemer\, 1799 Lincoln Ave\, Evansville\, IN\, United States
GEO:37.969944;-87.532398
X-APPLE-STRUCTURED-LOCATION;VALUE=URI;X-ADDRESS=Lutheran Church of Our Redeemer 1799 Lincoln Ave Evansville IN United States;X-APPLE-RADIUS=500;X-TITLE=1799 Lincoln Ave:geo:-87.532398,37.969944
END:VEVENT
BEGIN:VEVENT
DTSTART;TZID=America/Chicago:20250406T091500
DTEND;TZID=America/Chicago:20250406T101500
DTSTAMP:20260419T204237
CREATED:20241028T213904Z
LAST-MODIFIED:20250120T233026Z
UID:10001029-1743930900-1743934500@www.redeemerchurch.org
SUMMARY:SML!\, MS & Youth Bible Study
DESCRIPTION:
URL:https://www.redeemerchurch.org/event/sml-ms-youth-bible-study-29/
LOCATION:IN
END:VEVENT
BEGIN:VEVENT
DTSTART;TZID=America/Chicago:20250406T091500
DTEND;TZID=America/Chicago:20250406T101500
DTSTAMP:20260419T204237
CREATED:20241028T213904Z
LAST-MODIFIED:20250120T233026Z
UID:10001031-1743930900-1743934500@www.redeemerchurch.org
SUMMARY:Online & In-Person Adult Bible Study
DESCRIPTION:
URL:https://www.redeemerchurch.org/event/online-in-person-adult-bible-study-29/
LOCATION:Lutheran Church of Our Redeemer\, 1799 Lincoln Ave\, Evansville\, IN\, United States
GEO:37.969944;-87.532398
X-APPLE-STRUCTURED-LOCATION;VALUE=URI;X-ADDRESS=Lutheran Church of Our Redeemer 1799 Lincoln Ave Evansville IN United States;X-APPLE-RADIUS=500;X-TITLE=1799 Lincoln Ave:geo:-87.532398,37.969944
END:VEVENT
BEGIN:VEVENT
DTSTART;TZID=America/Chicago:20250406T103000
DTEND;TZID=America/Chicago:20250406T113000
DTSTAMP:20260419T204237
CREATED:20241028T213904Z
LAST-MODIFIED:20250120T233026Z
UID:10001035-1743935400-1743939000@www.redeemerchurch.org
SUMMARY:Traditional Worship @EVV
DESCRIPTION:
URL:https://www.redeemerchurch.org/event/traditional-worship-evv-57/
LOCATION:Lutheran Church of Our Redeemer\, 1799 Lincoln Ave\, Evansville\, IN\, United States
GEO:37.969944;-87.532398
X-APPLE-STRUCTURED-LOCATION;VALUE=URI;X-ADDRESS=Lutheran Church of Our Redeemer 1799 Lincoln Ave Evansville IN United States;X-APPLE-RADIUS=500;X-TITLE=1799 Lincoln Ave:geo:-87.532398,37.969944
END:VEVENT
BEGIN:VEVENT
DTSTART;TZID=America/Chicago:20250406T113000
DTEND;TZID=America/Chicago:20250406T123000
DTSTAMP:20260419T204237
CREATED:20241028T213904Z
LAST-MODIFIED:20250120T233026Z
UID:10001033-1743939000-1743942600@www.redeemerchurch.org
SUMMARY:Worship @Newburgh
DESCRIPTION:
URL:https://www.redeemerchurch.org/event/worship-newburgh-29/
LOCATION:Redeemer Newburgh\, 7811 Oak Grove Rd\, Newburgh\, IN\, United States
GEO:37.990953;-87.391948
X-APPLE-STRUCTURED-LOCATION;VALUE=URI;X-ADDRESS=Redeemer Newburgh 7811 Oak Grove Rd Newburgh IN United States;X-APPLE-RADIUS=500;X-TITLE=7811 Oak Grove Rd:geo:-87.391948,37.990953
END:VEVENT
BEGIN:VEVENT
DTSTART;TZID=America/Chicago:20250406T160000
DTEND;TZID=America/Chicago:20250406T173000
DTSTAMP:20260419T204237
CREATED:20241028T213904Z
LAST-MODIFIED:20250120T233026Z
UID:10001037-1743955200-1743960600@www.redeemerchurch.org
SUMMARY:Faith in Action Pickleball@UE
DESCRIPTION:
URL:https://www.redeemerchurch.org/event/faith-in-action-pickleballue-22/
LOCATION:IN
END:VEVENT
END:VCALENDAR