BEGIN:VCALENDAR
VERSION:2.0
PRODID:-//Lutheran Church of Our Redeemer - ECPv6.15.20//NONSGML v1.0//EN
CALSCALE:GREGORIAN
METHOD:PUBLISH
X-ORIGINAL-URL:https://www.redeemerchurch.org
X-WR-CALDESC:Events for Lutheran Church of Our Redeemer
REFRESH-INTERVAL;VALUE=DURATION:PT1H
X-Robots-Tag:noindex
X-PUBLISHED-TTL:PT1H
BEGIN:VTIMEZONE
TZID:America/Chicago
BEGIN:DAYLIGHT
TZOFFSETFROM:-0600
TZOFFSETTO:-0500
TZNAME:CDT
DTSTART:20240310T080000
END:DAYLIGHT
BEGIN:STANDARD
TZOFFSETFROM:-0500
TZOFFSETTO:-0600
TZNAME:CST
DTSTART:20241103T070000
END:STANDARD
BEGIN:DAYLIGHT
TZOFFSETFROM:-0600
TZOFFSETTO:-0500
TZNAME:CDT
DTSTART:20250309T080000
END:DAYLIGHT
BEGIN:STANDARD
TZOFFSETFROM:-0500
TZOFFSETTO:-0600
TZNAME:CST
DTSTART:20251102T070000
END:STANDARD
BEGIN:DAYLIGHT
TZOFFSETFROM:-0600
TZOFFSETTO:-0500
TZNAME:CDT
DTSTART:20260308T080000
END:DAYLIGHT
BEGIN:STANDARD
TZOFFSETFROM:-0500
TZOFFSETTO:-0600
TZNAME:CST
DTSTART:20261101T070000
END:STANDARD
END:VTIMEZONE
BEGIN:VEVENT
DTSTART;TZID=America/Chicago:20250406T080000
DTEND;TZID=America/Chicago:20250406T090000
DTSTAMP:20260420T000802
CREATED:20241028T213904Z
LAST-MODIFIED:20250120T233026Z
UID:10001028-1743926400-1743930000@www.redeemerchurch.org
SUMMARY:Traditional Worship @EVV
DESCRIPTION:
URL:https://www.redeemerchurch.org/event/traditional-worship-evv-56/
LOCATION:Lutheran Church of Our Redeemer\, 1799 Lincoln Ave\, Evansville\, IN\, United States
GEO:37.969944;-87.532398
X-APPLE-STRUCTURED-LOCATION;VALUE=URI;X-ADDRESS=Lutheran Church of Our Redeemer 1799 Lincoln Ave Evansville IN United States;X-APPLE-RADIUS=500;X-TITLE=1799 Lincoln Ave:geo:-87.532398,37.969944
END:VEVENT
BEGIN:VEVENT
DTSTART;TZID=America/Chicago:20250406T091500
DTEND;TZID=America/Chicago:20250406T101500
DTSTAMP:20260420T000802
CREATED:20241028T213904Z
LAST-MODIFIED:20250120T233026Z
UID:10001029-1743930900-1743934500@www.redeemerchurch.org
SUMMARY:SML!\, MS & Youth Bible Study
DESCRIPTION:
URL:https://www.redeemerchurch.org/event/sml-ms-youth-bible-study-29/
LOCATION:IN
END:VEVENT
BEGIN:VEVENT
DTSTART;TZID=America/Chicago:20250406T091500
DTEND;TZID=America/Chicago:20250406T101500
DTSTAMP:20260420T000802
CREATED:20241028T213904Z
LAST-MODIFIED:20250120T233026Z
UID:10001031-1743930900-1743934500@www.redeemerchurch.org
SUMMARY:Online & In-Person Adult Bible Study
DESCRIPTION:
URL:https://www.redeemerchurch.org/event/online-in-person-adult-bible-study-29/
LOCATION:Lutheran Church of Our Redeemer\, 1799 Lincoln Ave\, Evansville\, IN\, United States
GEO:37.969944;-87.532398
X-APPLE-STRUCTURED-LOCATION;VALUE=URI;X-ADDRESS=Lutheran Church of Our Redeemer 1799 Lincoln Ave Evansville IN United States;X-APPLE-RADIUS=500;X-TITLE=1799 Lincoln Ave:geo:-87.532398,37.969944
END:VEVENT
BEGIN:VEVENT
DTSTART;TZID=America/Chicago:20250406T103000
DTEND;TZID=America/Chicago:20250406T113000
DTSTAMP:20260420T000802
CREATED:20241028T213904Z
LAST-MODIFIED:20250120T233026Z
UID:10001035-1743935400-1743939000@www.redeemerchurch.org
SUMMARY:Traditional Worship @EVV
DESCRIPTION:
URL:https://www.redeemerchurch.org/event/traditional-worship-evv-57/
LOCATION:Lutheran Church of Our Redeemer\, 1799 Lincoln Ave\, Evansville\, IN\, United States
GEO:37.969944;-87.532398
X-APPLE-STRUCTURED-LOCATION;VALUE=URI;X-ADDRESS=Lutheran Church of Our Redeemer 1799 Lincoln Ave Evansville IN United States;X-APPLE-RADIUS=500;X-TITLE=1799 Lincoln Ave:geo:-87.532398,37.969944
END:VEVENT
BEGIN:VEVENT
DTSTART;TZID=America/Chicago:20250406T113000
DTEND;TZID=America/Chicago:20250406T123000
DTSTAMP:20260420T000802
CREATED:20241028T213904Z
LAST-MODIFIED:20250120T233026Z
UID:10001033-1743939000-1743942600@www.redeemerchurch.org
SUMMARY:Worship @Newburgh
DESCRIPTION:
URL:https://www.redeemerchurch.org/event/worship-newburgh-29/
LOCATION:Redeemer Newburgh\, 7811 Oak Grove Rd\, Newburgh\, IN\, United States
GEO:37.990953;-87.391948
X-APPLE-STRUCTURED-LOCATION;VALUE=URI;X-ADDRESS=Redeemer Newburgh 7811 Oak Grove Rd Newburgh IN United States;X-APPLE-RADIUS=500;X-TITLE=7811 Oak Grove Rd:geo:-87.391948,37.990953
END:VEVENT
BEGIN:VEVENT
DTSTART;TZID=America/Chicago:20250406T160000
DTEND;TZID=America/Chicago:20250406T173000
DTSTAMP:20260420T000802
CREATED:20241028T213904Z
LAST-MODIFIED:20250120T233026Z
UID:10001037-1743955200-1743960600@www.redeemerchurch.org
SUMMARY:Faith in Action Pickleball@UE
DESCRIPTION:
URL:https://www.redeemerchurch.org/event/faith-in-action-pickleballue-22/
LOCATION:IN
END:VEVENT
BEGIN:VEVENT
DTSTART;TZID=America/Chicago:20250407T150000
DTEND;TZID=America/Chicago:20250407T153000
DTSTAMP:20260420T000802
CREATED:20241216T220527Z
LAST-MODIFIED:20250120T233026Z
UID:10001146-1744038000-1744039800@www.redeemerchurch.org
SUMMARY:Monday Night Prayer Group
DESCRIPTION:
URL:https://www.redeemerchurch.org/event/monday-night-prayer-group-53/
LOCATION:Redeemer Newburgh\, 7811 Oak Grove Rd\, Newburgh\, IN\, United States
GEO:37.990953;-87.391948
X-APPLE-STRUCTURED-LOCATION;VALUE=URI;X-ADDRESS=Redeemer Newburgh 7811 Oak Grove Rd Newburgh IN United States;X-APPLE-RADIUS=500;X-TITLE=7811 Oak Grove Rd:geo:-87.391948,37.990953
END:VEVENT
BEGIN:VEVENT
DTSTART;TZID=America/Chicago:20250407T160000
DTEND;TZID=America/Chicago:20250407T163000
DTSTAMP:20260420T000802
CREATED:20241028T213904Z
LAST-MODIFIED:20241209T220232Z
UID:10001039-1744041600-1744043400@www.redeemerchurch.org
SUMMARY:Monday Night Prayer Group
DESCRIPTION:
URL:https://www.redeemerchurch.org/event/monday-night-prayer-group-30/
LOCATION:Redeemer Newburgh\, 7811 Oak Grove Rd\, Newburgh\, IN\, United States
GEO:37.990953;-87.391948
X-APPLE-STRUCTURED-LOCATION;VALUE=URI;X-ADDRESS=Redeemer Newburgh 7811 Oak Grove Rd Newburgh IN United States;X-APPLE-RADIUS=500;X-TITLE=7811 Oak Grove Rd:geo:-87.391948,37.990953
END:VEVENT
BEGIN:VEVENT
DTSTART;TZID=America/Chicago:20250408T173000
DTEND;TZID=America/Chicago:20250408T183000
DTSTAMP:20260420T000802
CREATED:20241028T213905Z
LAST-MODIFIED:20250120T233026Z
UID:10001041-1744133400-1744137000@www.redeemerchurch.org
SUMMARY:Faith in Action Tuesday Encounter
DESCRIPTION:Bible Study in Upstairs Ridgway
URL:https://www.redeemerchurch.org/event/faith-in-action-tuesday-encounter-29/
LOCATION:Ridgway University Center\, 1001 E Walnut St\, Evansville\, IN\, United States
GEO:37.973579;-87.547699
X-APPLE-STRUCTURED-LOCATION;VALUE=URI;X-ADDRESS=Ridgway University Center 1001 E Walnut St Evansville IN United States;X-APPLE-RADIUS=500;X-TITLE=1001 E Walnut St:geo:-87.547699,37.973579
END:VEVENT
BEGIN:VEVENT
DTSTART;TZID=America/Chicago:20250408T173000
DTEND;TZID=America/Chicago:20250408T183000
DTSTAMP:20260420T000802
CREATED:20241028T213905Z
LAST-MODIFIED:20250120T233026Z
UID:10001043-1744133400-1744137000@www.redeemerchurch.org
SUMMARY:Women's Evening Bible Study @Oaklyn Library\, Study Rm B
DESCRIPTION:
URL:https://www.redeemerchurch.org/event/womens-evening-bible-study-oaklyn-library-study-rm-b-29/
LOCATION:3001 Oaklyn Dr\nEvansville\, IN\, United States
END:VEVENT
BEGIN:VEVENT
DTSTART;TZID=America/Chicago:20250409T190000
DTEND;TZID=America/Chicago:20250409T200000
DTSTAMP:20260420T000802
CREATED:20241028T213905Z
LAST-MODIFIED:20250120T233026Z
UID:10001045-1744225200-1744228800@www.redeemerchurch.org
SUMMARY:Choir Practice
DESCRIPTION:
URL:https://www.redeemerchurch.org/event/choir-practice-30/
LOCATION:Lutheran Church of Our Redeemer\, 1799 Lincoln Ave\, Evansville\, IN\, United States
GEO:37.969944;-87.532398
X-APPLE-STRUCTURED-LOCATION;VALUE=URI;X-ADDRESS=Lutheran Church of Our Redeemer 1799 Lincoln Ave Evansville IN United States;X-APPLE-RADIUS=500;X-TITLE=1799 Lincoln Ave:geo:-87.532398,37.969944
END:VEVENT
BEGIN:VEVENT
DTSTART;TZID=America/Chicago:20250410T120000
DTEND;TZID=America/Chicago:20250410T130000
DTSTAMP:20260420T000802
CREATED:20241028T213905Z
LAST-MODIFIED:20250120T233026Z
UID:10001047-1744286400-1744290000@www.redeemerchurch.org
SUMMARY:Backyard Bible Study
DESCRIPTION:On Facebook
URL:https://www.redeemerchurch.org/event/backyard-bible-study-30/
LOCATION:https://www.facebook.com/RedeemerEvansville
END:VEVENT
BEGIN:VEVENT
DTSTART;VALUE=DATE:20250412
DTEND;VALUE=DATE:20250413
DTSTAMP:20260420T000802
CREATED:20241028T213905Z
LAST-MODIFIED:20250120T233026Z
UID:10001049-1744416000-1744502399@www.redeemerchurch.org
SUMMARY:ELS 13th Annual Dinner & Auction
DESCRIPTION:
URL:https://www.redeemerchurch.org/event/els-13th-annual-dinner-auction/
LOCATION:IN
END:VEVENT
BEGIN:VEVENT
DTSTART;TZID=America/Chicago:20250413T080000
DTEND;TZID=America/Chicago:20250413T090000
DTSTAMP:20260420T000802
CREATED:20241028T213905Z
LAST-MODIFIED:20250120T233026Z
UID:10001050-1744531200-1744534800@www.redeemerchurch.org
SUMMARY:Traditional Worship @EVV
DESCRIPTION:
URL:https://www.redeemerchurch.org/event/traditional-worship-evv-58/
LOCATION:Lutheran Church of Our Redeemer\, 1799 Lincoln Ave\, Evansville\, IN\, United States
GEO:37.969944;-87.532398
X-APPLE-STRUCTURED-LOCATION;VALUE=URI;X-ADDRESS=Lutheran Church of Our Redeemer 1799 Lincoln Ave Evansville IN United States;X-APPLE-RADIUS=500;X-TITLE=1799 Lincoln Ave:geo:-87.532398,37.969944
END:VEVENT
BEGIN:VEVENT
DTSTART;TZID=America/Chicago:20250413T091500
DTEND;TZID=America/Chicago:20250413T101500
DTSTAMP:20260420T000802
CREATED:20241028T213906Z
LAST-MODIFIED:20250120T233026Z
UID:10001051-1744535700-1744539300@www.redeemerchurch.org
SUMMARY:SML!\, MS & Youth Bible Study
DESCRIPTION:
URL:https://www.redeemerchurch.org/event/sml-ms-youth-bible-study-30/
LOCATION:IN
END:VEVENT
BEGIN:VEVENT
DTSTART;TZID=America/Chicago:20250413T091500
DTEND;TZID=America/Chicago:20250413T101500
DTSTAMP:20260420T000802
CREATED:20241028T213906Z
LAST-MODIFIED:20250120T233026Z
UID:10001052-1744535700-1744539300@www.redeemerchurch.org
SUMMARY:Online & In-Person Adult Bible Study
DESCRIPTION:
URL:https://www.redeemerchurch.org/event/online-in-person-adult-bible-study-30/
LOCATION:Lutheran Church of Our Redeemer\, 1799 Lincoln Ave\, Evansville\, IN\, United States
GEO:37.969944;-87.532398
X-APPLE-STRUCTURED-LOCATION;VALUE=URI;X-ADDRESS=Lutheran Church of Our Redeemer 1799 Lincoln Ave Evansville IN United States;X-APPLE-RADIUS=500;X-TITLE=1799 Lincoln Ave:geo:-87.532398,37.969944
END:VEVENT
BEGIN:VEVENT
DTSTART;TZID=America/Chicago:20250413T103000
DTEND;TZID=America/Chicago:20250413T113000
DTSTAMP:20260420T000802
CREATED:20241104T214737Z
LAST-MODIFIED:20250120T233026Z
UID:10001070-1744540200-1744543800@www.redeemerchurch.org
SUMMARY:Traditional Worship @EVV
DESCRIPTION:
URL:https://www.redeemerchurch.org/event/traditional-worship-evv-59/
LOCATION:Lutheran Church of Our Redeemer\, 1799 Lincoln Ave\, Evansville\, IN\, United States
GEO:37.969944;-87.532398
X-APPLE-STRUCTURED-LOCATION;VALUE=URI;X-ADDRESS=Lutheran Church of Our Redeemer 1799 Lincoln Ave Evansville IN United States;X-APPLE-RADIUS=500;X-TITLE=1799 Lincoln Ave:geo:-87.532398,37.969944
END:VEVENT
BEGIN:VEVENT
DTSTART;TZID=America/Chicago:20250413T113000
DTEND;TZID=America/Chicago:20250413T123000
DTSTAMP:20260420T000802
CREATED:20241028T213906Z
LAST-MODIFIED:20250120T233026Z
UID:10001059-1744543800-1744547400@www.redeemerchurch.org
SUMMARY:Worship @Newburgh
DESCRIPTION:
URL:https://www.redeemerchurch.org/event/worship-newburgh-30/
LOCATION:Redeemer Newburgh\, 7811 Oak Grove Rd\, Newburgh\, IN\, United States
GEO:37.990953;-87.391948
X-APPLE-STRUCTURED-LOCATION;VALUE=URI;X-ADDRESS=Redeemer Newburgh 7811 Oak Grove Rd Newburgh IN United States;X-APPLE-RADIUS=500;X-TITLE=7811 Oak Grove Rd:geo:-87.391948,37.990953
END:VEVENT
BEGIN:VEVENT
DTSTART;TZID=America/Chicago:20250413T160000
DTEND;TZID=America/Chicago:20250413T173000
DTSTAMP:20260420T000802
CREATED:20241104T214738Z
LAST-MODIFIED:20250120T233026Z
UID:10001071-1744560000-1744565400@www.redeemerchurch.org
SUMMARY:Faith in Action Pickleball@UE
DESCRIPTION:
URL:https://www.redeemerchurch.org/event/faith-in-action-pickleballue-23/
LOCATION:IN
END:VEVENT
BEGIN:VEVENT
DTSTART;TZID=America/Chicago:20250414T150000
DTEND;TZID=America/Chicago:20250414T153000
DTSTAMP:20260420T000802
CREATED:20241216T220527Z
LAST-MODIFIED:20250120T233026Z
UID:10001147-1744642800-1744644600@www.redeemerchurch.org
SUMMARY:Monday Night Prayer Group
DESCRIPTION:
URL:https://www.redeemerchurch.org/event/monday-night-prayer-group-54/
LOCATION:Redeemer Newburgh\, 7811 Oak Grove Rd\, Newburgh\, IN\, United States
GEO:37.990953;-87.391948
X-APPLE-STRUCTURED-LOCATION;VALUE=URI;X-ADDRESS=Redeemer Newburgh 7811 Oak Grove Rd Newburgh IN United States;X-APPLE-RADIUS=500;X-TITLE=7811 Oak Grove Rd:geo:-87.391948,37.990953
END:VEVENT
BEGIN:VEVENT
DTSTART;TZID=America/Chicago:20250414T160000
DTEND;TZID=America/Chicago:20250414T163000
DTSTAMP:20260420T000802
CREATED:20241104T214738Z
LAST-MODIFIED:20241209T220233Z
UID:10001072-1744646400-1744648200@www.redeemerchurch.org
SUMMARY:Monday Night Prayer Group
DESCRIPTION:
URL:https://www.redeemerchurch.org/event/monday-night-prayer-group-31/
LOCATION:Redeemer Newburgh\, 7811 Oak Grove Rd\, Newburgh\, IN\, United States
GEO:37.990953;-87.391948
X-APPLE-STRUCTURED-LOCATION;VALUE=URI;X-ADDRESS=Redeemer Newburgh 7811 Oak Grove Rd Newburgh IN United States;X-APPLE-RADIUS=500;X-TITLE=7811 Oak Grove Rd:geo:-87.391948,37.990953
END:VEVENT
BEGIN:VEVENT
DTSTART;TZID=America/Chicago:20250415T173000
DTEND;TZID=America/Chicago:20250415T183000
DTSTAMP:20260420T000802
CREATED:20241104T214738Z
LAST-MODIFIED:20250120T233026Z
UID:10001074-1744738200-1744741800@www.redeemerchurch.org
SUMMARY:Women's Evening Bible Study @Oaklyn Library\, Study Rm B
DESCRIPTION:
URL:https://www.redeemerchurch.org/event/womens-evening-bible-study-oaklyn-library-study-rm-b-30/
LOCATION:3001 Oaklyn Dr\nEvansville\, IN\, United States
END:VEVENT
BEGIN:VEVENT
DTSTART;TZID=America/Chicago:20250415T173000
DTEND;TZID=America/Chicago:20250415T183000
DTSTAMP:20260420T000802
CREATED:20241104T214739Z
LAST-MODIFIED:20250120T233026Z
UID:10001075-1744738200-1744741800@www.redeemerchurch.org
SUMMARY:Faith in Action Tuesday Encounter
DESCRIPTION:Bible Study in Upstairs Ridgway
URL:https://www.redeemerchurch.org/event/faith-in-action-tuesday-encounter-30/
LOCATION:Ridgway University Center\, 1001 E Walnut St\, Evansville\, IN\, United States
GEO:37.973579;-87.547699
X-APPLE-STRUCTURED-LOCATION;VALUE=URI;X-ADDRESS=Ridgway University Center 1001 E Walnut St Evansville IN United States;X-APPLE-RADIUS=500;X-TITLE=1001 E Walnut St:geo:-87.547699,37.973579
END:VEVENT
BEGIN:VEVENT
DTSTART;TZID=America/Chicago:20250415T183000
DTEND;TZID=America/Chicago:20250415T200000
DTSTAMP:20260420T000802
CREATED:20241104T214738Z
LAST-MODIFIED:20250120T233027Z
UID:10001073-1744741800-1744747200@www.redeemerchurch.org
SUMMARY:MWF
DESCRIPTION:
URL:https://www.redeemerchurch.org/event/mwf-8/
LOCATION:FH
END:VEVENT
BEGIN:VEVENT
DTSTART;TZID=America/Chicago:20250416T183000
DTEND;TZID=America/Chicago:20250416T193000
DTSTAMP:20260420T000802
CREATED:20241104T214739Z
LAST-MODIFIED:20250120T233027Z
UID:10001076-1744828200-1744831800@www.redeemerchurch.org
SUMMARY:Choir Practice
DESCRIPTION:
URL:https://www.redeemerchurch.org/event/choir-practice-31/
LOCATION:Lutheran Church of Our Redeemer\, 1799 Lincoln Ave\, Evansville\, IN\, United States
GEO:37.969944;-87.532398
X-APPLE-STRUCTURED-LOCATION;VALUE=URI;X-ADDRESS=Lutheran Church of Our Redeemer 1799 Lincoln Ave Evansville IN United States;X-APPLE-RADIUS=500;X-TITLE=1799 Lincoln Ave:geo:-87.532398,37.969944
END:VEVENT
BEGIN:VEVENT
DTSTART;TZID=America/Chicago:20250417T120000
DTEND;TZID=America/Chicago:20250417T130000
DTSTAMP:20260420T000802
CREATED:20241104T214741Z
LAST-MODIFIED:20250120T233027Z
UID:10000900-1744891200-1744894800@www.redeemerchurch.org
SUMMARY:Backyard Bible Study
DESCRIPTION:On Facebook
URL:https://www.redeemerchurch.org/event/backyard-bible-study-31/
LOCATION:https://www.facebook.com/RedeemerEvansville
END:VEVENT
BEGIN:VEVENT
DTSTART;TZID=America/Chicago:20250417T130000
DTEND;TZID=America/Chicago:20250417T150000
DTSTAMP:20260420T000802
CREATED:20241104T214740Z
LAST-MODIFIED:20250120T233027Z
UID:10001077-1744894800-1744902000@www.redeemerchurch.org
SUMMARY:Sisters of Joy @Friendship Diner
DESCRIPTION:
URL:https://www.redeemerchurch.org/event/sisters-of-joy-friendship-diner-6/
LOCATION:834 Tutor Ln\nEvansville\, IN\, United States
END:VEVENT
BEGIN:VEVENT
DTSTART;TZID=America/Chicago:20250419T140000
DTEND;TZID=America/Chicago:20250419T160000
DTSTAMP:20260420T000802
CREATED:20250410T174800Z
LAST-MODIFIED:20250410T174800Z
UID:10001214-1745071200-1745078400@www.redeemerchurch.org
SUMMARY:Easter Event at Newburgh
DESCRIPTION:Easter Event at Newburgh\nApril 19\n2- 4 pm\nEgg Hunt\, Petting Zoo and Easter Activities
URL:https://www.redeemerchurch.org/event/easter-event-at-newburgh/
LOCATION:Redeemer Newburgh 7811 Oak Grove Rd\, Newburgh\, IN\, United States
CATEGORIES:All Church Event
GEO:37.952897;-87.34647
END:VEVENT
BEGIN:VEVENT
DTSTART;TZID=America/Chicago:20250420T080000
DTEND;TZID=America/Chicago:20250420T090000
DTSTAMP:20260420T000802
CREATED:20241104T214741Z
LAST-MODIFIED:20250120T233027Z
UID:10000902-1745136000-1745139600@www.redeemerchurch.org
SUMMARY:Traditional Worship @EVV
DESCRIPTION:
URL:https://www.redeemerchurch.org/event/traditional-worship-evv-60/
LOCATION:Lutheran Church of Our Redeemer\, 1799 Lincoln Ave\, Evansville\, IN\, United States
GEO:37.969944;-87.532398
X-APPLE-STRUCTURED-LOCATION;VALUE=URI;X-ADDRESS=Lutheran Church of Our Redeemer 1799 Lincoln Ave Evansville IN United States;X-APPLE-RADIUS=500;X-TITLE=1799 Lincoln Ave:geo:-87.532398,37.969944
END:VEVENT
BEGIN:VEVENT
DTSTART;TZID=America/Chicago:20250420T103000
DTEND;TZID=America/Chicago:20250420T113000
DTSTAMP:20260420T000802
CREATED:20241111T215514Z
LAST-MODIFIED:20250120T233027Z
UID:10000908-1745145000-1745148600@www.redeemerchurch.org
SUMMARY:Traditional Worship @EVV
DESCRIPTION:
URL:https://www.redeemerchurch.org/event/traditional-worship-evv-61/
LOCATION:Lutheran Church of Our Redeemer\, 1799 Lincoln Ave\, Evansville\, IN\, United States
GEO:37.969944;-87.532398
X-APPLE-STRUCTURED-LOCATION;VALUE=URI;X-ADDRESS=Lutheran Church of Our Redeemer 1799 Lincoln Ave Evansville IN United States;X-APPLE-RADIUS=500;X-TITLE=1799 Lincoln Ave:geo:-87.532398,37.969944
END:VEVENT
END:VCALENDAR