BEGIN:VCALENDAR
VERSION:2.0
PRODID:-//Lutheran Church of Our Redeemer - ECPv6.15.20//NONSGML v1.0//EN
CALSCALE:GREGORIAN
METHOD:PUBLISH
X-ORIGINAL-URL:https://www.redeemerchurch.org
X-WR-CALDESC:Events for Lutheran Church of Our Redeemer
REFRESH-INTERVAL;VALUE=DURATION:PT1H
X-Robots-Tag:noindex
X-PUBLISHED-TTL:PT1H
BEGIN:VTIMEZONE
TZID:America/Chicago
BEGIN:DAYLIGHT
TZOFFSETFROM:-0600
TZOFFSETTO:-0500
TZNAME:CDT
DTSTART:20240310T080000
END:DAYLIGHT
BEGIN:STANDARD
TZOFFSETFROM:-0500
TZOFFSETTO:-0600
TZNAME:CST
DTSTART:20241103T070000
END:STANDARD
BEGIN:DAYLIGHT
TZOFFSETFROM:-0600
TZOFFSETTO:-0500
TZNAME:CDT
DTSTART:20250309T080000
END:DAYLIGHT
BEGIN:STANDARD
TZOFFSETFROM:-0500
TZOFFSETTO:-0600
TZNAME:CST
DTSTART:20251102T070000
END:STANDARD
BEGIN:DAYLIGHT
TZOFFSETFROM:-0600
TZOFFSETTO:-0500
TZNAME:CDT
DTSTART:20260308T080000
END:DAYLIGHT
BEGIN:STANDARD
TZOFFSETFROM:-0500
TZOFFSETTO:-0600
TZNAME:CST
DTSTART:20261101T070000
END:STANDARD
END:VTIMEZONE
BEGIN:VEVENT
DTSTART;TZID=America/Chicago:20250421T160000
DTEND;TZID=America/Chicago:20250421T163000
DTSTAMP:20260420T170925
CREATED:20241111T215514Z
LAST-MODIFIED:20241209T220233Z
UID:10000912-1745251200-1745253000@www.redeemerchurch.org
SUMMARY:Monday Night Prayer Group
DESCRIPTION:
URL:https://www.redeemerchurch.org/event/monday-night-prayer-group-32/
LOCATION:Redeemer Newburgh\, 7811 Oak Grove Rd\, Newburgh\, IN\, United States
GEO:37.990953;-87.391948
X-APPLE-STRUCTURED-LOCATION;VALUE=URI;X-ADDRESS=Redeemer Newburgh 7811 Oak Grove Rd Newburgh IN United States;X-APPLE-RADIUS=500;X-TITLE=7811 Oak Grove Rd:geo:-87.391948,37.990953
END:VEVENT
BEGIN:VEVENT
DTSTART;TZID=America/Chicago:20250422T173000
DTEND;TZID=America/Chicago:20250422T183000
DTSTAMP:20260420T170925
CREATED:20241111T215514Z
LAST-MODIFIED:20250120T233027Z
UID:10000914-1745343000-1745346600@www.redeemerchurch.org
SUMMARY:Women's Evening Bible Study @Oaklyn Library\, Study Rm B
DESCRIPTION:
URL:https://www.redeemerchurch.org/event/womens-evening-bible-study-oaklyn-library-study-rm-b-31/
LOCATION:3001 Oaklyn Dr\nEvansville\, IN\, United States
END:VEVENT
BEGIN:VEVENT
DTSTART;TZID=America/Chicago:20250422T173000
DTEND;TZID=America/Chicago:20250422T183000
DTSTAMP:20260420T170925
CREATED:20241111T215514Z
LAST-MODIFIED:20250120T233027Z
UID:10000916-1745343000-1745346600@www.redeemerchurch.org
SUMMARY:Faith in Action Tuesday Encounter
DESCRIPTION:Bible Study in Upstairs Ridgway
URL:https://www.redeemerchurch.org/event/faith-in-action-tuesday-encounter-31/
LOCATION:Ridgway University Center\, 1001 E Walnut St\, Evansville\, IN\, United States
GEO:37.973579;-87.547699
X-APPLE-STRUCTURED-LOCATION;VALUE=URI;X-ADDRESS=Ridgway University Center 1001 E Walnut St Evansville IN United States;X-APPLE-RADIUS=500;X-TITLE=1001 E Walnut St:geo:-87.547699,37.973579
END:VEVENT
BEGIN:VEVENT
DTSTART;TZID=America/Chicago:20250423T183000
DTEND;TZID=America/Chicago:20250423T193000
DTSTAMP:20260420T170925
CREATED:20241111T215514Z
LAST-MODIFIED:20250120T233027Z
UID:10000918-1745433000-1745436600@www.redeemerchurch.org
SUMMARY:Choir Practice
DESCRIPTION:
URL:https://www.redeemerchurch.org/event/choir-practice-32/
LOCATION:Lutheran Church of Our Redeemer\, 1799 Lincoln Ave\, Evansville\, IN\, United States
GEO:37.969944;-87.532398
X-APPLE-STRUCTURED-LOCATION;VALUE=URI;X-ADDRESS=Lutheran Church of Our Redeemer 1799 Lincoln Ave Evansville IN United States;X-APPLE-RADIUS=500;X-TITLE=1799 Lincoln Ave:geo:-87.532398,37.969944
END:VEVENT
BEGIN:VEVENT
DTSTART;TZID=America/Chicago:20250424T120000
DTEND;TZID=America/Chicago:20250424T130000
DTSTAMP:20260420T170925
CREATED:20241111T215515Z
LAST-MODIFIED:20250120T233027Z
UID:10001078-1745496000-1745499600@www.redeemerchurch.org
SUMMARY:Backyard Bible Study
DESCRIPTION:On Facebook
URL:https://www.redeemerchurch.org/event/backyard-bible-study-32/
LOCATION:https://www.facebook.com/RedeemerEvansville
END:VEVENT
BEGIN:VEVENT
DTSTART;TZID=America/Chicago:20250427T080000
DTEND;TZID=America/Chicago:20250427T090000
DTSTAMP:20260420T170925
CREATED:20241111T215515Z
LAST-MODIFIED:20250120T233027Z
UID:10001079-1745740800-1745744400@www.redeemerchurch.org
SUMMARY:Traditional Worship @EVV
DESCRIPTION:
URL:https://www.redeemerchurch.org/event/traditional-worship-evv-62/
LOCATION:Lutheran Church of Our Redeemer\, 1799 Lincoln Ave\, Evansville\, IN\, United States
GEO:37.969944;-87.532398
X-APPLE-STRUCTURED-LOCATION;VALUE=URI;X-ADDRESS=Lutheran Church of Our Redeemer 1799 Lincoln Ave Evansville IN United States;X-APPLE-RADIUS=500;X-TITLE=1799 Lincoln Ave:geo:-87.532398,37.969944
END:VEVENT
BEGIN:VEVENT
DTSTART;TZID=America/Chicago:20250427T091500
DTEND;TZID=America/Chicago:20250427T101500
DTSTAMP:20260420T170925
CREATED:20241111T215515Z
LAST-MODIFIED:20250120T233027Z
UID:10001080-1745745300-1745748900@www.redeemerchurch.org
SUMMARY:Online & In-Person Adult Bible Study
DESCRIPTION:
URL:https://www.redeemerchurch.org/event/online-in-person-adult-bible-study-31/
LOCATION:Lutheran Church of Our Redeemer\, 1799 Lincoln Ave\, Evansville\, IN\, United States
GEO:37.969944;-87.532398
X-APPLE-STRUCTURED-LOCATION;VALUE=URI;X-ADDRESS=Lutheran Church of Our Redeemer 1799 Lincoln Ave Evansville IN United States;X-APPLE-RADIUS=500;X-TITLE=1799 Lincoln Ave:geo:-87.532398,37.969944
END:VEVENT
BEGIN:VEVENT
DTSTART;TZID=America/Chicago:20250427T091500
DTEND;TZID=America/Chicago:20250427T101500
DTSTAMP:20260420T170925
CREATED:20241111T215515Z
LAST-MODIFIED:20250120T233027Z
UID:10001081-1745745300-1745748900@www.redeemerchurch.org
SUMMARY:SML!\, MS & Youth Bible Study
DESCRIPTION:
URL:https://www.redeemerchurch.org/event/sml-ms-youth-bible-study-31/
END:VEVENT
BEGIN:VEVENT
DTSTART;TZID=America/Chicago:20250427T103000
DTEND;TZID=America/Chicago:20250427T113000
DTSTAMP:20260420T170925
CREATED:20241111T215515Z
LAST-MODIFIED:20250120T233027Z
UID:10001082-1745749800-1745753400@www.redeemerchurch.org
SUMMARY:Traditional Worship @EVV
DESCRIPTION:
URL:https://www.redeemerchurch.org/event/traditional-worship-evv-63/
LOCATION:Lutheran Church of Our Redeemer\, 1799 Lincoln Ave\, Evansville\, IN\, United States
GEO:37.969944;-87.532398
X-APPLE-STRUCTURED-LOCATION;VALUE=URI;X-ADDRESS=Lutheran Church of Our Redeemer 1799 Lincoln Ave Evansville IN United States;X-APPLE-RADIUS=500;X-TITLE=1799 Lincoln Ave:geo:-87.532398,37.969944
END:VEVENT
BEGIN:VEVENT
DTSTART;TZID=America/Chicago:20250427T113000
DTEND;TZID=America/Chicago:20250427T123000
DTSTAMP:20260420T170925
CREATED:20241118T220322Z
LAST-MODIFIED:20250120T233028Z
UID:10001084-1745753400-1745757000@www.redeemerchurch.org
SUMMARY:Worship @Newburgh
DESCRIPTION:
URL:https://www.redeemerchurch.org/event/worship-newburgh-32/
LOCATION:Redeemer Newburgh\, 7811 Oak Grove Rd\, Newburgh\, IN\, United States
GEO:37.990953;-87.391948
X-APPLE-STRUCTURED-LOCATION;VALUE=URI;X-ADDRESS=Redeemer Newburgh 7811 Oak Grove Rd Newburgh IN United States;X-APPLE-RADIUS=500;X-TITLE=7811 Oak Grove Rd:geo:-87.391948,37.990953
END:VEVENT
BEGIN:VEVENT
DTSTART;TZID=America/Chicago:20250427T160000
DTEND;TZID=America/Chicago:20250427T173000
DTSTAMP:20260420T170925
CREATED:20241118T220322Z
LAST-MODIFIED:20250120T233028Z
UID:10001085-1745769600-1745775000@www.redeemerchurch.org
SUMMARY:Faith in Action Pickleball@UE
DESCRIPTION:
URL:https://www.redeemerchurch.org/event/faith-in-action-pickleballue-25/
END:VEVENT
BEGIN:VEVENT
DTSTART;TZID=America/Chicago:20250428T113000
DTEND;TZID=America/Chicago:20250428T130000
DTSTAMP:20260420T170925
CREATED:20241118T220322Z
LAST-MODIFIED:20250120T233028Z
UID:10001086-1745839800-1745845200@www.redeemerchurch.org
SUMMARY:Seniors Lunch
DESCRIPTION:FH 1811 Lincoln Ave\, Evansville\, IN 47714\, USA
URL:https://www.redeemerchurch.org/event/seniors-lunch-8/
LOCATION:Lutheran Church of Our Redeemer\, 1799 Lincoln Ave\, Evansville\, IN\, United States
GEO:37.969944;-87.532398
X-APPLE-STRUCTURED-LOCATION;VALUE=URI;X-ADDRESS=Lutheran Church of Our Redeemer 1799 Lincoln Ave Evansville IN United States;X-APPLE-RADIUS=500;X-TITLE=1799 Lincoln Ave:geo:-87.532398,37.969944
END:VEVENT
BEGIN:VEVENT
DTSTART;TZID=America/Chicago:20250428T150000
DTEND;TZID=America/Chicago:20250428T153000
DTSTAMP:20260420T170925
CREATED:20241216T220529Z
LAST-MODIFIED:20250120T233028Z
UID:10001149-1745852400-1745854200@www.redeemerchurch.org
SUMMARY:Monday Night Prayer Group
DESCRIPTION:
URL:https://www.redeemerchurch.org/event/monday-night-prayer-group-56/
LOCATION:Redeemer Newburgh\, 7811 Oak Grove Rd\, Newburgh\, IN\, United States
GEO:37.990953;-87.391948
X-APPLE-STRUCTURED-LOCATION;VALUE=URI;X-ADDRESS=Redeemer Newburgh 7811 Oak Grove Rd Newburgh IN United States;X-APPLE-RADIUS=500;X-TITLE=7811 Oak Grove Rd:geo:-87.391948,37.990953
END:VEVENT
BEGIN:VEVENT
DTSTART;TZID=America/Chicago:20250428T160000
DTEND;TZID=America/Chicago:20250428T163000
DTSTAMP:20260420T170925
CREATED:20241118T220322Z
LAST-MODIFIED:20241209T220234Z
UID:10001087-1745856000-1745857800@www.redeemerchurch.org
SUMMARY:Monday Night Prayer Group
DESCRIPTION:
URL:https://www.redeemerchurch.org/event/monday-night-prayer-group-33/
LOCATION:Redeemer Newburgh\, 7811 Oak Grove Rd\, Newburgh\, IN\, United States
GEO:37.990953;-87.391948
X-APPLE-STRUCTURED-LOCATION;VALUE=URI;X-ADDRESS=Redeemer Newburgh 7811 Oak Grove Rd Newburgh IN United States;X-APPLE-RADIUS=500;X-TITLE=7811 Oak Grove Rd:geo:-87.391948,37.990953
END:VEVENT
BEGIN:VEVENT
DTSTART;TZID=America/Chicago:20250429T173000
DTEND;TZID=America/Chicago:20250429T183000
DTSTAMP:20260420T170926
CREATED:20241118T220323Z
LAST-MODIFIED:20250120T233028Z
UID:10001088-1745947800-1745951400@www.redeemerchurch.org
SUMMARY:Faith in Action Tuesday Encounter
DESCRIPTION:Bible Study in Upstairs Ridgway
URL:https://www.redeemerchurch.org/event/faith-in-action-tuesday-encounter-32/
LOCATION:Ridgway University Center\, 1001 E Walnut St\, Evansville\, IN\, United States
GEO:37.973579;-87.547699
X-APPLE-STRUCTURED-LOCATION;VALUE=URI;X-ADDRESS=Ridgway University Center 1001 E Walnut St Evansville IN United States;X-APPLE-RADIUS=500;X-TITLE=1001 E Walnut St:geo:-87.547699,37.973579
END:VEVENT
BEGIN:VEVENT
DTSTART;TZID=America/Chicago:20250429T173000
DTEND;TZID=America/Chicago:20250429T183000
DTSTAMP:20260420T170926
CREATED:20241118T220323Z
LAST-MODIFIED:20250120T233028Z
UID:10001089-1745947800-1745951400@www.redeemerchurch.org
SUMMARY:Women's Evening Bible Study @Oaklyn Library\, Study Rm B
DESCRIPTION:
URL:https://www.redeemerchurch.org/event/womens-evening-bible-study-oaklyn-library-study-rm-b-32/
LOCATION:3001 Oaklyn Dr\nEvansville\, IN\, United States
END:VEVENT
BEGIN:VEVENT
DTSTART;TZID=America/Chicago:20250430T183000
DTEND;TZID=America/Chicago:20250430T193000
DTSTAMP:20260420T170926
CREATED:20241118T220323Z
LAST-MODIFIED:20250120T233028Z
UID:10001090-1746037800-1746041400@www.redeemerchurch.org
SUMMARY:Choir Practice
DESCRIPTION:
URL:https://www.redeemerchurch.org/event/choir-practice-33/
LOCATION:Lutheran Church of Our Redeemer\, 1799 Lincoln Ave\, Evansville\, IN\, United States
GEO:37.969944;-87.532398
X-APPLE-STRUCTURED-LOCATION;VALUE=URI;X-ADDRESS=Lutheran Church of Our Redeemer 1799 Lincoln Ave Evansville IN United States;X-APPLE-RADIUS=500;X-TITLE=1799 Lincoln Ave:geo:-87.532398,37.969944
END:VEVENT
BEGIN:VEVENT
DTSTART;TZID=America/Chicago:20250501T120000
DTEND;TZID=America/Chicago:20250501T130000
DTSTAMP:20260420T170926
CREATED:20241118T220323Z
LAST-MODIFIED:20250120T233028Z
UID:10001091-1746100800-1746104400@www.redeemerchurch.org
SUMMARY:Backyard Bible Study
DESCRIPTION:On Facebook
URL:https://www.redeemerchurch.org/event/backyard-bible-study-33/
LOCATION:https://www.facebook.com/RedeemerEvansville
END:VEVENT
BEGIN:VEVENT
DTSTART;TZID=America/Chicago:20250503T073000
DTEND;TZID=America/Chicago:20250503T090000
DTSTAMP:20260420T170926
CREATED:20241118T220323Z
LAST-MODIFIED:20250120T233028Z
UID:10001092-1746257400-1746262800@www.redeemerchurch.org
SUMMARY:Men's Breakfast & Bible Study
DESCRIPTION:BREAKFAST WILL BE SERVED!! New start time & place as of 5/1/21 – Redeemer NWB\, 7:30
URL:https://www.redeemerchurch.org/event/mens-breakfast-bible-study-8/
LOCATION:Redeemer Newburgh\, 7811 Oak Grove Rd\, Newburgh\, IN\, United States
GEO:37.990953;-87.391948
X-APPLE-STRUCTURED-LOCATION;VALUE=URI;X-ADDRESS=Redeemer Newburgh 7811 Oak Grove Rd Newburgh IN United States;X-APPLE-RADIUS=500;X-TITLE=7811 Oak Grove Rd:geo:-87.391948,37.990953
END:VEVENT
BEGIN:VEVENT
DTSTART;TZID=America/Chicago:20250504T080000
DTEND;TZID=America/Chicago:20250504T090000
DTSTAMP:20260420T170926
CREATED:20241118T220323Z
LAST-MODIFIED:20250120T233028Z
UID:10001093-1746345600-1746349200@www.redeemerchurch.org
SUMMARY:Traditional Worship @EVV
DESCRIPTION:
URL:https://www.redeemerchurch.org/event/traditional-worship-evv-64/
LOCATION:Lutheran Church of Our Redeemer\, 1799 Lincoln Ave\, Evansville\, IN\, United States
GEO:37.969944;-87.532398
X-APPLE-STRUCTURED-LOCATION;VALUE=URI;X-ADDRESS=Lutheran Church of Our Redeemer 1799 Lincoln Ave Evansville IN United States;X-APPLE-RADIUS=500;X-TITLE=1799 Lincoln Ave:geo:-87.532398,37.969944
END:VEVENT
BEGIN:VEVENT
DTSTART;TZID=America/Chicago:20250504T091500
DTEND;TZID=America/Chicago:20250504T101500
DTSTAMP:20260420T170926
CREATED:20241118T220324Z
LAST-MODIFIED:20250120T233028Z
UID:10001094-1746350100-1746353700@www.redeemerchurch.org
SUMMARY:Online & In-Person Adult Bible Study
DESCRIPTION:
URL:https://www.redeemerchurch.org/event/online-in-person-adult-bible-study-32/
LOCATION:Lutheran Church of Our Redeemer\, 1799 Lincoln Ave\, Evansville\, IN\, United States
GEO:37.969944;-87.532398
X-APPLE-STRUCTURED-LOCATION;VALUE=URI;X-ADDRESS=Lutheran Church of Our Redeemer 1799 Lincoln Ave Evansville IN United States;X-APPLE-RADIUS=500;X-TITLE=1799 Lincoln Ave:geo:-87.532398,37.969944
END:VEVENT
BEGIN:VEVENT
DTSTART;TZID=America/Chicago:20250504T091500
DTEND;TZID=America/Chicago:20250504T101500
DTSTAMP:20260420T170926
CREATED:20241118T220324Z
LAST-MODIFIED:20250120T233028Z
UID:10001095-1746350100-1746353700@www.redeemerchurch.org
SUMMARY:SML!\, MS & Youth Bible Study
DESCRIPTION:
URL:https://www.redeemerchurch.org/event/sml-ms-youth-bible-study-32/
END:VEVENT
BEGIN:VEVENT
DTSTART;TZID=America/Chicago:20250504T103000
DTEND;TZID=America/Chicago:20250504T113000
DTSTAMP:20260420T170926
CREATED:20241125T220202Z
LAST-MODIFIED:20250120T233028Z
UID:10001097-1746354600-1746358200@www.redeemerchurch.org
SUMMARY:Traditional Worship @EVV
DESCRIPTION:
URL:https://www.redeemerchurch.org/event/traditional-worship-evv-65/
LOCATION:Lutheran Church of Our Redeemer\, 1799 Lincoln Ave\, Evansville\, IN\, United States
GEO:37.969944;-87.532398
X-APPLE-STRUCTURED-LOCATION;VALUE=URI;X-ADDRESS=Lutheran Church of Our Redeemer 1799 Lincoln Ave Evansville IN United States;X-APPLE-RADIUS=500;X-TITLE=1799 Lincoln Ave:geo:-87.532398,37.969944
END:VEVENT
BEGIN:VEVENT
DTSTART;TZID=America/Chicago:20250504T113000
DTEND;TZID=America/Chicago:20250504T123000
DTSTAMP:20260420T170926
CREATED:20241125T220202Z
LAST-MODIFIED:20250120T233028Z
UID:10001096-1746358200-1746361800@www.redeemerchurch.org
SUMMARY:Worship @Newburgh
DESCRIPTION:
URL:https://www.redeemerchurch.org/event/worship-newburgh-33/
LOCATION:Redeemer Newburgh\, 7811 Oak Grove Rd\, Newburgh\, IN\, United States
GEO:37.990953;-87.391948
X-APPLE-STRUCTURED-LOCATION;VALUE=URI;X-ADDRESS=Redeemer Newburgh 7811 Oak Grove Rd Newburgh IN United States;X-APPLE-RADIUS=500;X-TITLE=7811 Oak Grove Rd:geo:-87.391948,37.990953
END:VEVENT
BEGIN:VEVENT
DTSTART;TZID=America/Chicago:20250504T160000
DTEND;TZID=America/Chicago:20250504T173000
DTSTAMP:20260420T170926
CREATED:20241125T220202Z
LAST-MODIFIED:20250120T233028Z
UID:10001098-1746374400-1746379800@www.redeemerchurch.org
SUMMARY:Faith in Action Pickleball@UE
DESCRIPTION:
URL:https://www.redeemerchurch.org/event/faith-in-action-pickleballue-26/
END:VEVENT
BEGIN:VEVENT
DTSTART;TZID=America/Chicago:20250505T150000
DTEND;TZID=America/Chicago:20250505T153000
DTSTAMP:20260420T170926
CREATED:20241216T220529Z
LAST-MODIFIED:20250120T233028Z
UID:10001150-1746457200-1746459000@www.redeemerchurch.org
SUMMARY:Monday Night Prayer Group
DESCRIPTION:
URL:https://www.redeemerchurch.org/event/monday-night-prayer-group-57/
LOCATION:Redeemer Newburgh\, 7811 Oak Grove Rd\, Newburgh\, IN\, United States
GEO:37.990953;-87.391948
X-APPLE-STRUCTURED-LOCATION;VALUE=URI;X-ADDRESS=Redeemer Newburgh 7811 Oak Grove Rd Newburgh IN United States;X-APPLE-RADIUS=500;X-TITLE=7811 Oak Grove Rd:geo:-87.391948,37.990953
END:VEVENT
BEGIN:VEVENT
DTSTART;TZID=America/Chicago:20250505T160000
DTEND;TZID=America/Chicago:20250505T163000
DTSTAMP:20260420T170926
CREATED:20241125T220202Z
LAST-MODIFIED:20241209T220235Z
UID:10001099-1746460800-1746462600@www.redeemerchurch.org
SUMMARY:Monday Night Prayer Group
DESCRIPTION:
URL:https://www.redeemerchurch.org/event/monday-night-prayer-group-34/
LOCATION:Redeemer Newburgh\, 7811 Oak Grove Rd\, Newburgh\, IN\, United States
GEO:37.990953;-87.391948
X-APPLE-STRUCTURED-LOCATION;VALUE=URI;X-ADDRESS=Redeemer Newburgh 7811 Oak Grove Rd Newburgh IN United States;X-APPLE-RADIUS=500;X-TITLE=7811 Oak Grove Rd:geo:-87.391948,37.990953
END:VEVENT
BEGIN:VEVENT
DTSTART;TZID=America/Chicago:20250506T173000
DTEND;TZID=America/Chicago:20250506T183000
DTSTAMP:20260420T170926
CREATED:20241125T220202Z
LAST-MODIFIED:20250120T233028Z
UID:10001100-1746552600-1746556200@www.redeemerchurch.org
SUMMARY:Women's Evening Bible Study @Oaklyn Library\, Study Rm B
DESCRIPTION:
URL:https://www.redeemerchurch.org/event/womens-evening-bible-study-oaklyn-library-study-rm-b-33/
LOCATION:3001 Oaklyn Dr\nEvansville\, IN\, United States
END:VEVENT
BEGIN:VEVENT
DTSTART;TZID=America/Chicago:20250506T173000
DTEND;TZID=America/Chicago:20250506T183000
DTSTAMP:20260420T170926
CREATED:20241125T220202Z
LAST-MODIFIED:20250120T233028Z
UID:10001101-1746552600-1746556200@www.redeemerchurch.org
SUMMARY:Faith in Action Tuesday Encounter
DESCRIPTION:Bible Study in Upstairs Ridgway
URL:https://www.redeemerchurch.org/event/faith-in-action-tuesday-encounter-33/
LOCATION:Ridgway University Center\, 1001 E Walnut St\, Evansville\, IN\, United States
GEO:37.973579;-87.547699
X-APPLE-STRUCTURED-LOCATION;VALUE=URI;X-ADDRESS=Ridgway University Center 1001 E Walnut St Evansville IN United States;X-APPLE-RADIUS=500;X-TITLE=1001 E Walnut St:geo:-87.547699,37.973579
END:VEVENT
BEGIN:VEVENT
DTSTART;TZID=America/Chicago:20250507T183000
DTEND;TZID=America/Chicago:20250507T193000
DTSTAMP:20260420T170926
CREATED:20241125T220202Z
LAST-MODIFIED:20250120T233029Z
UID:10001102-1746642600-1746646200@www.redeemerchurch.org
SUMMARY:Choir Practice
DESCRIPTION:
URL:https://www.redeemerchurch.org/event/choir-practice-34/
LOCATION:Lutheran Church of Our Redeemer\, 1799 Lincoln Ave\, Evansville\, IN\, United States
GEO:37.969944;-87.532398
X-APPLE-STRUCTURED-LOCATION;VALUE=URI;X-ADDRESS=Lutheran Church of Our Redeemer 1799 Lincoln Ave Evansville IN United States;X-APPLE-RADIUS=500;X-TITLE=1799 Lincoln Ave:geo:-87.532398,37.969944
END:VEVENT
END:VCALENDAR