BEGIN:VCALENDAR
VERSION:2.0
PRODID:-//Lutheran Church of Our Redeemer - ECPv6.15.20//NONSGML v1.0//EN
CALSCALE:GREGORIAN
METHOD:PUBLISH
X-ORIGINAL-URL:https://www.redeemerchurch.org
X-WR-CALDESC:Events for Lutheran Church of Our Redeemer
REFRESH-INTERVAL;VALUE=DURATION:PT1H
X-Robots-Tag:noindex
X-PUBLISHED-TTL:PT1H
BEGIN:VTIMEZONE
TZID:America/Chicago
BEGIN:DAYLIGHT
TZOFFSETFROM:-0600
TZOFFSETTO:-0500
TZNAME:CDT
DTSTART:20250309T080000
END:DAYLIGHT
BEGIN:STANDARD
TZOFFSETFROM:-0500
TZOFFSETTO:-0600
TZNAME:CST
DTSTART:20251102T070000
END:STANDARD
BEGIN:DAYLIGHT
TZOFFSETFROM:-0600
TZOFFSETTO:-0500
TZNAME:CDT
DTSTART:20260308T080000
END:DAYLIGHT
BEGIN:STANDARD
TZOFFSETFROM:-0500
TZOFFSETTO:-0600
TZNAME:CST
DTSTART:20261101T070000
END:STANDARD
BEGIN:DAYLIGHT
TZOFFSETFROM:-0600
TZOFFSETTO:-0500
TZNAME:CDT
DTSTART:20270314T080000
END:DAYLIGHT
BEGIN:STANDARD
TZOFFSETFROM:-0500
TZOFFSETTO:-0600
TZNAME:CST
DTSTART:20271107T070000
END:STANDARD
END:VTIMEZONE
BEGIN:VEVENT
DTSTART;TZID=America/Chicago:20260920T113000
DTEND;TZID=America/Chicago:20260920T123000
DTSTAMP:20260423T142025
CREATED:20260423T183122Z
LAST-MODIFIED:20260423T183705Z
UID:10002316-1789903800-1789907400@www.redeemerchurch.org
SUMMARY:Worship @Newburgh
DESCRIPTION:
URL:https://www.redeemerchurch.org/event/worship-newburgh-103/
LOCATION:Redeemer Newburgh\, 7811 Oak Grove Rd\, Newburgh\, IN\, United States
GEO:37.990953;-87.391948
X-APPLE-STRUCTURED-LOCATION;VALUE=URI;X-ADDRESS=Redeemer Newburgh 7811 Oak Grove Rd Newburgh IN United States;X-APPLE-RADIUS=500;X-TITLE=7811 Oak Grove Rd:geo:-87.391948,37.990953
END:VEVENT
BEGIN:VEVENT
DTSTART;TZID=America/Chicago:20260920T150000
DTEND;TZID=America/Chicago:20260920T170000
DTSTAMP:20260423T142025
CREATED:20260423T183122Z
LAST-MODIFIED:20260423T183705Z
UID:10002317-1789916400-1789923600@www.redeemerchurch.org
SUMMARY:Volleyball@NWB
DESCRIPTION:
URL:https://www.redeemerchurch.org/event/volleyballnwb-50/
LOCATION:Redeemer Newburgh\, 7811 Oak Grove Rd\, Newburgh\, IN\, United States
GEO:37.990953;-87.391948
X-APPLE-STRUCTURED-LOCATION;VALUE=URI;X-ADDRESS=Redeemer Newburgh 7811 Oak Grove Rd Newburgh IN United States;X-APPLE-RADIUS=500;X-TITLE=7811 Oak Grove Rd:geo:-87.391948,37.990953
END:VEVENT
BEGIN:VEVENT
DTSTART;TZID=America/Chicago:20260921T160000
DTEND;TZID=America/Chicago:20260921T200000
DTSTAMP:20260423T142025
CREATED:20260423T183122Z
LAST-MODIFIED:20260423T183705Z
UID:10002318-1790006400-1790020800@www.redeemerchurch.org
SUMMARY:Giving Garden
DESCRIPTION:
URL:https://www.redeemerchurch.org/event/giving-garden-40/
END:VEVENT
END:VCALENDAR