BEGIN:VCALENDAR
VERSION:2.0
PRODID:-//Lutheran Church of Our Redeemer - ECPv6.15.20//NONSGML v1.0//EN
CALSCALE:GREGORIAN
METHOD:PUBLISH
X-ORIGINAL-URL:https://www.redeemerchurch.org
X-WR-CALDESC:Events for Lutheran Church of Our Redeemer
REFRESH-INTERVAL;VALUE=DURATION:PT1H
X-Robots-Tag:noindex
X-PUBLISHED-TTL:PT1H
BEGIN:VTIMEZONE
TZID:America/Chicago
BEGIN:DAYLIGHT
TZOFFSETFROM:-0600
TZOFFSETTO:-0500
TZNAME:CDT
DTSTART:20230312T080000
END:DAYLIGHT
BEGIN:STANDARD
TZOFFSETFROM:-0500
TZOFFSETTO:-0600
TZNAME:CST
DTSTART:20231105T070000
END:STANDARD
BEGIN:DAYLIGHT
TZOFFSETFROM:-0600
TZOFFSETTO:-0500
TZNAME:CDT
DTSTART:20240310T080000
END:DAYLIGHT
BEGIN:STANDARD
TZOFFSETFROM:-0500
TZOFFSETTO:-0600
TZNAME:CST
DTSTART:20241103T070000
END:STANDARD
BEGIN:DAYLIGHT
TZOFFSETFROM:-0600
TZOFFSETTO:-0500
TZNAME:CDT
DTSTART:20250309T080000
END:DAYLIGHT
BEGIN:STANDARD
TZOFFSETFROM:-0500
TZOFFSETTO:-0600
TZNAME:CST
DTSTART:20251102T070000
END:STANDARD
END:VTIMEZONE
BEGIN:VEVENT
DTSTART;TZID=America/Chicago:20241211T190000
DTEND;TZID=America/Chicago:20241211T200000
DTSTAMP:20260421T101145
CREATED:20240916T204320Z
LAST-MODIFIED:20241209T220219Z
UID:10000807-1733943600-1733947200@www.redeemerchurch.org
SUMMARY:Choir Practice
DESCRIPTION:
URL:https://www.redeemerchurch.org/event/choir-practice-13/
LOCATION:Lutheran Church of Our Redeemer\, 1799 Lincoln Ave\, Evansville\, IN\, United States
GEO:37.969944;-87.532398
X-APPLE-STRUCTURED-LOCATION;VALUE=URI;X-ADDRESS=Lutheran Church of Our Redeemer 1799 Lincoln Ave Evansville IN United States;X-APPLE-RADIUS=500;X-TITLE=1799 Lincoln Ave:geo:-87.532398,37.969944
END:VEVENT
BEGIN:VEVENT
DTSTART;TZID=America/Chicago:20241208T103000
DTEND;TZID=America/Chicago:20241208T113000
DTSTAMP:20260421T101145
CREATED:20240916T204319Z
LAST-MODIFIED:20241202T220310Z
UID:10000794-1733653800-1733657400@www.redeemerchurch.org
SUMMARY:Traditional Worship @EVV
DESCRIPTION:
URL:https://www.redeemerchurch.org/event/traditional-worship-evv-23/
LOCATION:Lutheran Church of Our Redeemer\, 1799 Lincoln Ave\, Evansville\, IN\, United States
GEO:37.969944;-87.532398
X-APPLE-STRUCTURED-LOCATION;VALUE=URI;X-ADDRESS=Lutheran Church of Our Redeemer 1799 Lincoln Ave Evansville IN United States;X-APPLE-RADIUS=500;X-TITLE=1799 Lincoln Ave:geo:-87.532398,37.969944
END:VEVENT
BEGIN:VEVENT
DTSTART;TZID=America/Chicago:20241208T091500
DTEND;TZID=America/Chicago:20241208T101500
DTSTAMP:20260421T101145
CREATED:20240916T204318Z
LAST-MODIFIED:20241202T220310Z
UID:10000791-1733649300-1733652900@www.redeemerchurch.org
SUMMARY:Online & In-Person Adult Bible Study
DESCRIPTION:
URL:https://www.redeemerchurch.org/event/online-in-person-adult-bible-study-12/
LOCATION:Lutheran Church of Our Redeemer\, 1799 Lincoln Ave\, Evansville\, IN\, United States
GEO:37.969944;-87.532398
X-APPLE-STRUCTURED-LOCATION;VALUE=URI;X-ADDRESS=Lutheran Church of Our Redeemer 1799 Lincoln Ave Evansville IN United States;X-APPLE-RADIUS=500;X-TITLE=1799 Lincoln Ave:geo:-87.532398,37.969944
END:VEVENT
BEGIN:VEVENT
DTSTART;TZID=America/Chicago:20241208T080000
DTEND;TZID=America/Chicago:20241208T090000
DTSTAMP:20260421T101145
CREATED:20240916T204318Z
LAST-MODIFIED:20241202T220310Z
UID:10000789-1733644800-1733648400@www.redeemerchurch.org
SUMMARY:Traditional Worship @EVV
DESCRIPTION:
URL:https://www.redeemerchurch.org/event/traditional-worship-evv-22/
LOCATION:Lutheran Church of Our Redeemer\, 1799 Lincoln Ave\, Evansville\, IN\, United States
GEO:37.969944;-87.532398
X-APPLE-STRUCTURED-LOCATION;VALUE=URI;X-ADDRESS=Lutheran Church of Our Redeemer 1799 Lincoln Ave Evansville IN United States;X-APPLE-RADIUS=500;X-TITLE=1799 Lincoln Ave:geo:-87.532398,37.969944
END:VEVENT
BEGIN:VEVENT
DTSTART;TZID=America/Chicago:20241204T190000
DTEND;TZID=America/Chicago:20241204T200000
DTSTAMP:20260421T101145
CREATED:20240916T204318Z
LAST-MODIFIED:20241202T220257Z
UID:10000782-1733338800-1733342400@www.redeemerchurch.org
SUMMARY:Choir Practice
DESCRIPTION:
URL:https://www.redeemerchurch.org/event/choir-practice-12/
LOCATION:Lutheran Church of Our Redeemer\, 1799 Lincoln Ave\, Evansville\, IN\, United States
GEO:37.969944;-87.532398
X-APPLE-STRUCTURED-LOCATION;VALUE=URI;X-ADDRESS=Lutheran Church of Our Redeemer 1799 Lincoln Ave Evansville IN United States;X-APPLE-RADIUS=500;X-TITLE=1799 Lincoln Ave:geo:-87.532398,37.969944
END:VEVENT
BEGIN:VEVENT
DTSTART;TZID=America/Chicago:20241202T113000
DTEND;TZID=America/Chicago:20241202T130000
DTSTAMP:20260421T101145
CREATED:20240916T204317Z
LAST-MODIFIED:20241125T220202Z
UID:10000686-1733139000-1733144400@www.redeemerchurch.org
SUMMARY:Seniors Lunch
DESCRIPTION:FH 1811 Lincoln Ave\, Evansville\, IN 47714\, USA
URL:https://www.redeemerchurch.org/event/seniors-lunch-3/
LOCATION:Lutheran Church of Our Redeemer\, 1799 Lincoln Ave\, Evansville\, IN\, United States
GEO:37.969944;-87.532398
X-APPLE-STRUCTURED-LOCATION;VALUE=URI;X-ADDRESS=Lutheran Church of Our Redeemer 1799 Lincoln Ave Evansville IN United States;X-APPLE-RADIUS=500;X-TITLE=1799 Lincoln Ave:geo:-87.532398,37.969944
END:VEVENT
BEGIN:VEVENT
DTSTART;TZID=America/Chicago:20241201T103000
DTEND;TZID=America/Chicago:20241201T113000
DTSTAMP:20260421T101145
CREATED:20240916T204317Z
LAST-MODIFIED:20241125T220201Z
UID:10000682-1733049000-1733052600@www.redeemerchurch.org
SUMMARY:Traditional Worship @EVV
DESCRIPTION:
URL:https://www.redeemerchurch.org/event/traditional-worship-evv-21/
LOCATION:Lutheran Church of Our Redeemer\, 1799 Lincoln Ave\, Evansville\, IN\, United States
GEO:37.969944;-87.532398
X-APPLE-STRUCTURED-LOCATION;VALUE=URI;X-ADDRESS=Lutheran Church of Our Redeemer 1799 Lincoln Ave Evansville IN United States;X-APPLE-RADIUS=500;X-TITLE=1799 Lincoln Ave:geo:-87.532398,37.969944
END:VEVENT
BEGIN:VEVENT
DTSTART;TZID=America/Chicago:20241201T091500
DTEND;TZID=America/Chicago:20241201T101500
DTSTAMP:20260421T101145
CREATED:20240916T204316Z
LAST-MODIFIED:20241125T220148Z
UID:10000678-1733044500-1733048100@www.redeemerchurch.org
SUMMARY:Online & In-Person Adult Bible Study
DESCRIPTION:
URL:https://www.redeemerchurch.org/event/online-in-person-adult-bible-study-11/
LOCATION:Lutheran Church of Our Redeemer\, 1799 Lincoln Ave\, Evansville\, IN\, United States
GEO:37.969944;-87.532398
X-APPLE-STRUCTURED-LOCATION;VALUE=URI;X-ADDRESS=Lutheran Church of Our Redeemer 1799 Lincoln Ave Evansville IN United States;X-APPLE-RADIUS=500;X-TITLE=1799 Lincoln Ave:geo:-87.532398,37.969944
END:VEVENT
BEGIN:VEVENT
DTSTART;TZID=America/Chicago:20241201T080000
DTEND;TZID=America/Chicago:20241201T090000
DTSTAMP:20260421T101145
CREATED:20240916T204316Z
LAST-MODIFIED:20241125T220148Z
UID:10000780-1733040000-1733043600@www.redeemerchurch.org
SUMMARY:Traditional Worship @EVV
DESCRIPTION:
URL:https://www.redeemerchurch.org/event/traditional-worship-evv-20/
LOCATION:Lutheran Church of Our Redeemer\, 1799 Lincoln Ave\, Evansville\, IN\, United States
GEO:37.969944;-87.532398
X-APPLE-STRUCTURED-LOCATION;VALUE=URI;X-ADDRESS=Lutheran Church of Our Redeemer 1799 Lincoln Ave Evansville IN United States;X-APPLE-RADIUS=500;X-TITLE=1799 Lincoln Ave:geo:-87.532398,37.969944
END:VEVENT
BEGIN:VEVENT
DTSTART;TZID=America/Chicago:20241127T183000
DTEND;TZID=America/Chicago:20241127T193000
DTSTAMP:20260421T101145
CREATED:20240916T204316Z
LAST-MODIFIED:20241125T220148Z
UID:10000774-1732732200-1732735800@www.redeemerchurch.org
SUMMARY:Choir Practice
DESCRIPTION:
URL:https://www.redeemerchurch.org/event/choir-practice-11/
LOCATION:Lutheran Church of Our Redeemer\, 1799 Lincoln Ave\, Evansville\, IN\, United States
GEO:37.969944;-87.532398
X-APPLE-STRUCTURED-LOCATION;VALUE=URI;X-ADDRESS=Lutheran Church of Our Redeemer 1799 Lincoln Ave Evansville IN United States;X-APPLE-RADIUS=500;X-TITLE=1799 Lincoln Ave:geo:-87.532398,37.969944
END:VEVENT
BEGIN:VEVENT
DTSTART;TZID=America/Chicago:20241124T103000
DTEND;TZID=America/Chicago:20241124T113000
DTSTAMP:20260421T101145
CREATED:20240916T204315Z
LAST-MODIFIED:20241118T220306Z
UID:10000769-1732444200-1732447800@www.redeemerchurch.org
SUMMARY:Traditional Worship @EVV
DESCRIPTION:
URL:https://www.redeemerchurch.org/event/traditional-worship-evv-19/
LOCATION:Lutheran Church of Our Redeemer\, 1799 Lincoln Ave\, Evansville\, IN\, United States
GEO:37.969944;-87.532398
X-APPLE-STRUCTURED-LOCATION;VALUE=URI;X-ADDRESS=Lutheran Church of Our Redeemer 1799 Lincoln Ave Evansville IN United States;X-APPLE-RADIUS=500;X-TITLE=1799 Lincoln Ave:geo:-87.532398,37.969944
END:VEVENT
BEGIN:VEVENT
DTSTART;TZID=America/Chicago:20241124T091500
DTEND;TZID=America/Chicago:20241124T101500
DTSTAMP:20260421T101145
CREATED:20240916T204314Z
LAST-MODIFIED:20241118T220306Z
UID:10000768-1732439700-1732443300@www.redeemerchurch.org
SUMMARY:Online & In-Person Adult Bible Study
DESCRIPTION:
URL:https://www.redeemerchurch.org/event/online-in-person-adult-bible-study-10/
LOCATION:Lutheran Church of Our Redeemer\, 1799 Lincoln Ave\, Evansville\, IN\, United States
GEO:37.969944;-87.532398
X-APPLE-STRUCTURED-LOCATION;VALUE=URI;X-ADDRESS=Lutheran Church of Our Redeemer 1799 Lincoln Ave Evansville IN United States;X-APPLE-RADIUS=500;X-TITLE=1799 Lincoln Ave:geo:-87.532398,37.969944
END:VEVENT
BEGIN:VEVENT
DTSTART;TZID=America/Chicago:20241124T080000
DTEND;TZID=America/Chicago:20241124T090000
DTSTAMP:20260421T101145
CREATED:20240916T204314Z
LAST-MODIFIED:20241118T220253Z
UID:10000766-1732435200-1732438800@www.redeemerchurch.org
SUMMARY:Traditional Worship @EVV
DESCRIPTION:
URL:https://www.redeemerchurch.org/event/traditional-worship-evv-18/
LOCATION:Lutheran Church of Our Redeemer\, 1799 Lincoln Ave\, Evansville\, IN\, United States
GEO:37.969944;-87.532398
X-APPLE-STRUCTURED-LOCATION;VALUE=URI;X-ADDRESS=Lutheran Church of Our Redeemer 1799 Lincoln Ave Evansville IN United States;X-APPLE-RADIUS=500;X-TITLE=1799 Lincoln Ave:geo:-87.532398,37.969944
END:VEVENT
BEGIN:VEVENT
DTSTART;TZID=America/Chicago:20241120T183000
DTEND;TZID=America/Chicago:20241120T193000
DTSTAMP:20260421T101145
CREATED:20240916T204314Z
LAST-MODIFIED:20241118T220253Z
UID:10000763-1732127400-1732131000@www.redeemerchurch.org
SUMMARY:Choir Practice
DESCRIPTION:
URL:https://www.redeemerchurch.org/event/choir-practice-10/
LOCATION:Lutheran Church of Our Redeemer\, 1799 Lincoln Ave\, Evansville\, IN\, United States
GEO:37.969944;-87.532398
X-APPLE-STRUCTURED-LOCATION;VALUE=URI;X-ADDRESS=Lutheran Church of Our Redeemer 1799 Lincoln Ave Evansville IN United States;X-APPLE-RADIUS=500;X-TITLE=1799 Lincoln Ave:geo:-87.532398,37.969944
END:VEVENT
BEGIN:VEVENT
DTSTART;TZID=America/Chicago:20241117T103000
DTEND;TZID=America/Chicago:20241117T113000
DTSTAMP:20260421T101145
CREATED:20240916T204313Z
LAST-MODIFIED:20241111T215447Z
UID:10000756-1731839400-1731843000@www.redeemerchurch.org
SUMMARY:Traditional Worship @EVV
DESCRIPTION:
URL:https://www.redeemerchurch.org/event/traditional-worship-evv-17/
LOCATION:Lutheran Church of Our Redeemer\, 1799 Lincoln Ave\, Evansville\, IN\, United States
GEO:37.969944;-87.532398
X-APPLE-STRUCTURED-LOCATION;VALUE=URI;X-ADDRESS=Lutheran Church of Our Redeemer 1799 Lincoln Ave Evansville IN United States;X-APPLE-RADIUS=500;X-TITLE=1799 Lincoln Ave:geo:-87.532398,37.969944
END:VEVENT
BEGIN:VEVENT
DTSTART;TZID=America/Chicago:20241117T091500
DTEND;TZID=America/Chicago:20241117T101500
DTSTAMP:20260421T101145
CREATED:20240916T204312Z
LAST-MODIFIED:20241111T215447Z
UID:10000753-1731834900-1731838500@www.redeemerchurch.org
SUMMARY:Online & In-Person Adult Bible Study
DESCRIPTION:
URL:https://www.redeemerchurch.org/event/online-in-person-adult-bible-study-9/
LOCATION:Lutheran Church of Our Redeemer\, 1799 Lincoln Ave\, Evansville\, IN\, United States
GEO:37.969944;-87.532398
X-APPLE-STRUCTURED-LOCATION;VALUE=URI;X-ADDRESS=Lutheran Church of Our Redeemer 1799 Lincoln Ave Evansville IN United States;X-APPLE-RADIUS=500;X-TITLE=1799 Lincoln Ave:geo:-87.532398,37.969944
END:VEVENT
BEGIN:VEVENT
DTSTART;TZID=America/Chicago:20241117T080000
DTEND;TZID=America/Chicago:20241117T090000
DTSTAMP:20260421T101145
CREATED:20240916T204312Z
LAST-MODIFIED:20241111T215447Z
UID:10000752-1731830400-1731834000@www.redeemerchurch.org
SUMMARY:Traditional Worship @EVV
DESCRIPTION:
URL:https://www.redeemerchurch.org/event/traditional-worship-evv-16/
LOCATION:Lutheran Church of Our Redeemer\, 1799 Lincoln Ave\, Evansville\, IN\, United States
GEO:37.969944;-87.532398
X-APPLE-STRUCTURED-LOCATION;VALUE=URI;X-ADDRESS=Lutheran Church of Our Redeemer 1799 Lincoln Ave Evansville IN United States;X-APPLE-RADIUS=500;X-TITLE=1799 Lincoln Ave:geo:-87.532398,37.969944
END:VEVENT
BEGIN:VEVENT
DTSTART;TZID=America/Chicago:20241113T183000
DTEND;TZID=America/Chicago:20241113T193000
DTSTAMP:20260421T101145
CREATED:20240916T204312Z
LAST-MODIFIED:20241111T215447Z
UID:10000750-1731522600-1731526200@www.redeemerchurch.org
SUMMARY:Choir Practice
DESCRIPTION:
URL:https://www.redeemerchurch.org/event/choir-practice-9/
LOCATION:Lutheran Church of Our Redeemer\, 1799 Lincoln Ave\, Evansville\, IN\, United States
GEO:37.969944;-87.532398
X-APPLE-STRUCTURED-LOCATION;VALUE=URI;X-ADDRESS=Lutheran Church of Our Redeemer 1799 Lincoln Ave Evansville IN United States;X-APPLE-RADIUS=500;X-TITLE=1799 Lincoln Ave:geo:-87.532398,37.969944
END:VEVENT
BEGIN:VEVENT
DTSTART;TZID=America/Chicago:20241110T103000
DTEND;TZID=America/Chicago:20241110T113000
DTSTAMP:20260421T101145
CREATED:20240916T204309Z
LAST-MODIFIED:20241104T214604Z
UID:10000744-1731234600-1731238200@www.redeemerchurch.org
SUMMARY:Traditional Worship @EVV
DESCRIPTION:
URL:https://www.redeemerchurch.org/event/traditional-worship-evv-15/
LOCATION:Lutheran Church of Our Redeemer\, 1799 Lincoln Ave\, Evansville\, IN\, United States
GEO:37.969944;-87.532398
X-APPLE-STRUCTURED-LOCATION;VALUE=URI;X-ADDRESS=Lutheran Church of Our Redeemer 1799 Lincoln Ave Evansville IN United States;X-APPLE-RADIUS=500;X-TITLE=1799 Lincoln Ave:geo:-87.532398,37.969944
END:VEVENT
BEGIN:VEVENT
DTSTART;TZID=America/Chicago:20241110T091500
DTEND;TZID=America/Chicago:20241110T101500
DTSTAMP:20260421T101145
CREATED:20240916T204309Z
LAST-MODIFIED:20241104T214604Z
UID:10000742-1731230100-1731233700@www.redeemerchurch.org
SUMMARY:Online & In-Person Adult Bible Study
DESCRIPTION:
URL:https://www.redeemerchurch.org/event/online-in-person-adult-bible-study-8/
LOCATION:Lutheran Church of Our Redeemer\, 1799 Lincoln Ave\, Evansville\, IN\, United States
GEO:37.969944;-87.532398
X-APPLE-STRUCTURED-LOCATION;VALUE=URI;X-ADDRESS=Lutheran Church of Our Redeemer 1799 Lincoln Ave Evansville IN United States;X-APPLE-RADIUS=500;X-TITLE=1799 Lincoln Ave:geo:-87.532398,37.969944
END:VEVENT
BEGIN:VEVENT
DTSTART;TZID=America/Chicago:20241110T080000
DTEND;TZID=America/Chicago:20241110T090000
DTSTAMP:20260421T101145
CREATED:20240916T204308Z
LAST-MODIFIED:20241104T214604Z
UID:10000738-1731225600-1731229200@www.redeemerchurch.org
SUMMARY:Traditional Worship @EVV
DESCRIPTION:
URL:https://www.redeemerchurch.org/event/traditional-worship-evv-14/
LOCATION:Lutheran Church of Our Redeemer\, 1799 Lincoln Ave\, Evansville\, IN\, United States
GEO:37.969944;-87.532398
X-APPLE-STRUCTURED-LOCATION;VALUE=URI;X-ADDRESS=Lutheran Church of Our Redeemer 1799 Lincoln Ave Evansville IN United States;X-APPLE-RADIUS=500;X-TITLE=1799 Lincoln Ave:geo:-87.532398,37.969944
END:VEVENT
BEGIN:VEVENT
DTSTART;TZID=America/Chicago:20241106T183000
DTEND;TZID=America/Chicago:20241106T193000
DTSTAMP:20260421T101145
CREATED:20240916T204308Z
LAST-MODIFIED:20241104T214604Z
UID:10000734-1730917800-1730921400@www.redeemerchurch.org
SUMMARY:Choir Practice
DESCRIPTION:
URL:https://www.redeemerchurch.org/event/choir-practice-8/
LOCATION:Lutheran Church of Our Redeemer\, 1799 Lincoln Ave\, Evansville\, IN\, United States
GEO:37.969944;-87.532398
X-APPLE-STRUCTURED-LOCATION;VALUE=URI;X-ADDRESS=Lutheran Church of Our Redeemer 1799 Lincoln Ave Evansville IN United States;X-APPLE-RADIUS=500;X-TITLE=1799 Lincoln Ave:geo:-87.532398,37.969944
END:VEVENT
BEGIN:VEVENT
DTSTART;TZID=America/Chicago:20241103T103000
DTEND;TZID=America/Chicago:20241103T113000
DTSTAMP:20260421T101145
CREATED:20240916T204307Z
LAST-MODIFIED:20241028T213846Z
UID:10000643-1730629800-1730633400@www.redeemerchurch.org
SUMMARY:Traditional Worship @EVV
DESCRIPTION:
URL:https://www.redeemerchurch.org/event/traditional-worship-evv-13/
LOCATION:Lutheran Church of Our Redeemer\, 1799 Lincoln Ave\, Evansville\, IN\, United States
GEO:37.969944;-87.532398
X-APPLE-STRUCTURED-LOCATION;VALUE=URI;X-ADDRESS=Lutheran Church of Our Redeemer 1799 Lincoln Ave Evansville IN United States;X-APPLE-RADIUS=500;X-TITLE=1799 Lincoln Ave:geo:-87.532398,37.969944
END:VEVENT
BEGIN:VEVENT
DTSTART;TZID=America/Chicago:20241103T091500
DTEND;TZID=America/Chicago:20241103T101500
DTSTAMP:20260421T101145
CREATED:20240916T204307Z
LAST-MODIFIED:20241028T213845Z
UID:10000642-1730625300-1730628900@www.redeemerchurch.org
SUMMARY:Online & In-Person Adult Bible Study
DESCRIPTION:
URL:https://www.redeemerchurch.org/event/online-in-person-adult-bible-study-7/
LOCATION:Lutheran Church of Our Redeemer\, 1799 Lincoln Ave\, Evansville\, IN\, United States
GEO:37.969944;-87.532398
X-APPLE-STRUCTURED-LOCATION;VALUE=URI;X-ADDRESS=Lutheran Church of Our Redeemer 1799 Lincoln Ave Evansville IN United States;X-APPLE-RADIUS=500;X-TITLE=1799 Lincoln Ave:geo:-87.532398,37.969944
END:VEVENT
BEGIN:VEVENT
DTSTART;TZID=America/Chicago:20241103T080000
DTEND;TZID=America/Chicago:20241103T090000
DTSTAMP:20260421T101145
CREATED:20240916T204307Z
LAST-MODIFIED:20241028T213845Z
UID:10000640-1730620800-1730624400@www.redeemerchurch.org
SUMMARY:Traditional Worship @EVV
DESCRIPTION:
URL:https://www.redeemerchurch.org/event/traditional-worship-evv-12/
LOCATION:Lutheran Church of Our Redeemer\, 1799 Lincoln Ave\, Evansville\, IN\, United States
GEO:37.969944;-87.532398
X-APPLE-STRUCTURED-LOCATION;VALUE=URI;X-ADDRESS=Lutheran Church of Our Redeemer 1799 Lincoln Ave Evansville IN United States;X-APPLE-RADIUS=500;X-TITLE=1799 Lincoln Ave:geo:-87.532398,37.969944
END:VEVENT
BEGIN:VEVENT
DTSTART;TZID=America/Chicago:20241031T183000
DTEND;TZID=America/Chicago:20241031T200000
DTSTAMP:20260421T101145
CREATED:20240916T204306Z
LAST-MODIFIED:20241028T213830Z
UID:10000730-1730399400-1730404800@www.redeemerchurch.org
SUMMARY:Giving Garden Neighborhood Share
DESCRIPTION:
URL:https://www.redeemerchurch.org/event/giving-garden-neighborhood-share-14/
LOCATION:Lutheran Church of Our Redeemer\, 1799 Lincoln Ave\, Evansville\, IN\, United States
GEO:37.969944;-87.532398
X-APPLE-STRUCTURED-LOCATION;VALUE=URI;X-ADDRESS=Lutheran Church of Our Redeemer 1799 Lincoln Ave Evansville IN United States;X-APPLE-RADIUS=500;X-TITLE=1799 Lincoln Ave:geo:-87.532398,37.969944
END:VEVENT
BEGIN:VEVENT
DTSTART;TZID=America/Chicago:20241031T170000
DTEND;TZID=America/Chicago:20241031T183000
DTSTAMP:20260421T101145
CREATED:20240916T204307Z
LAST-MODIFIED:20241028T213830Z
UID:10000638-1730394000-1730399400@www.redeemerchurch.org
SUMMARY:Giving Garden Harvest
DESCRIPTION:Behind LCOR on Frederick
URL:https://www.redeemerchurch.org/event/giving-garden-harvest-14/
LOCATION:Lutheran Church of Our Redeemer\, 1799 Lincoln Ave\, Evansville\, IN\, United States
GEO:37.969944;-87.532398
X-APPLE-STRUCTURED-LOCATION;VALUE=URI;X-ADDRESS=Lutheran Church of Our Redeemer 1799 Lincoln Ave Evansville IN United States;X-APPLE-RADIUS=500;X-TITLE=1799 Lincoln Ave:geo:-87.532398,37.969944
END:VEVENT
BEGIN:VEVENT
DTSTART;TZID=America/Chicago:20241030T183000
DTEND;TZID=America/Chicago:20241030T193000
DTSTAMP:20260421T101145
CREATED:20240916T204306Z
LAST-MODIFIED:20241028T213830Z
UID:10000726-1730313000-1730316600@www.redeemerchurch.org
SUMMARY:Choir Practice
DESCRIPTION:
URL:https://www.redeemerchurch.org/event/choir-practice-7/
LOCATION:Lutheran Church of Our Redeemer\, 1799 Lincoln Ave\, Evansville\, IN\, United States
GEO:37.969944;-87.532398
X-APPLE-STRUCTURED-LOCATION;VALUE=URI;X-ADDRESS=Lutheran Church of Our Redeemer 1799 Lincoln Ave Evansville IN United States;X-APPLE-RADIUS=500;X-TITLE=1799 Lincoln Ave:geo:-87.532398,37.969944
END:VEVENT
BEGIN:VEVENT
DTSTART;TZID=America/Chicago:20241028T183000
DTEND;TZID=America/Chicago:20241028T200000
DTSTAMP:20260421T101145
CREATED:20240916T204305Z
LAST-MODIFIED:20241028T213830Z
UID:10000720-1730140200-1730145600@www.redeemerchurch.org
SUMMARY:Giving Garden Neighborhood Share
DESCRIPTION:
URL:https://www.redeemerchurch.org/event/giving-garden-neighborhood-share-13/
LOCATION:Lutheran Church of Our Redeemer\, 1799 Lincoln Ave\, Evansville\, IN\, United States
GEO:37.969944;-87.532398
X-APPLE-STRUCTURED-LOCATION;VALUE=URI;X-ADDRESS=Lutheran Church of Our Redeemer 1799 Lincoln Ave Evansville IN United States;X-APPLE-RADIUS=500;X-TITLE=1799 Lincoln Ave:geo:-87.532398,37.969944
END:VEVENT
BEGIN:VEVENT
DTSTART;TZID=America/Chicago:20241028T170000
DTEND;TZID=America/Chicago:20241028T183000
DTSTAMP:20260421T101145
CREATED:20240916T204306Z
LAST-MODIFIED:20241028T213829Z
UID:10000721-1730134800-1730140200@www.redeemerchurch.org
SUMMARY:Giving Garden Harvest
DESCRIPTION:behind Redeemer Evansville on Frederick St.
URL:https://www.redeemerchurch.org/event/giving-garden-harvest-13/
LOCATION:Lutheran Church of Our Redeemer\, 1799 Lincoln Ave\, Evansville\, IN\, United States
GEO:37.969944;-87.532398
X-APPLE-STRUCTURED-LOCATION;VALUE=URI;X-ADDRESS=Lutheran Church of Our Redeemer 1799 Lincoln Ave Evansville IN United States;X-APPLE-RADIUS=500;X-TITLE=1799 Lincoln Ave:geo:-87.532398,37.969944
END:VEVENT
END:VCALENDAR