BEGIN:VCALENDAR
VERSION:2.0
PRODID:-//Lutheran Church of Our Redeemer - ECPv6.15.20//NONSGML v1.0//EN
CALSCALE:GREGORIAN
METHOD:PUBLISH
X-WR-CALNAME:Lutheran Church of Our Redeemer
X-ORIGINAL-URL:https://www.redeemerchurch.org
X-WR-CALDESC:Events for Lutheran Church of Our Redeemer
REFRESH-INTERVAL;VALUE=DURATION:PT1H
X-Robots-Tag:noindex
X-PUBLISHED-TTL:PT1H
BEGIN:VTIMEZONE
TZID:America/Chicago
BEGIN:DAYLIGHT
TZOFFSETFROM:-0600
TZOFFSETTO:-0500
TZNAME:CDT
DTSTART:20250309T080000
END:DAYLIGHT
BEGIN:STANDARD
TZOFFSETFROM:-0500
TZOFFSETTO:-0600
TZNAME:CST
DTSTART:20251102T070000
END:STANDARD
BEGIN:DAYLIGHT
TZOFFSETFROM:-0600
TZOFFSETTO:-0500
TZNAME:CDT
DTSTART:20260308T080000
END:DAYLIGHT
BEGIN:STANDARD
TZOFFSETFROM:-0500
TZOFFSETTO:-0600
TZNAME:CST
DTSTART:20261101T070000
END:STANDARD
BEGIN:DAYLIGHT
TZOFFSETFROM:-0600
TZOFFSETTO:-0500
TZNAME:CDT
DTSTART:20270314T080000
END:DAYLIGHT
BEGIN:STANDARD
TZOFFSETFROM:-0500
TZOFFSETTO:-0600
TZNAME:CST
DTSTART:20271107T070000
END:STANDARD
END:VTIMEZONE
BEGIN:VEVENT
DTSTART;TZID=America/Chicago:20260719T080000
DTEND;TZID=America/Chicago:20260719T090000
DTSTAMP:20260419T112112
CREATED:20260108T184551Z
LAST-MODIFIED:20260416T182216Z
UID:10002011-1784448000-1784451600@www.redeemerchurch.org
SUMMARY:Traditional Worship @EVV
DESCRIPTION:
URL:https://www.redeemerchurch.org/event/traditional-worship-evv-185/
LOCATION:Lutheran Church of Our Redeemer\, 1799 Lincoln Ave\, Evansville\, IN\, United States
GEO:37.969944;-87.532398
X-APPLE-STRUCTURED-LOCATION;VALUE=URI;X-ADDRESS=Lutheran Church of Our Redeemer 1799 Lincoln Ave Evansville IN United States;X-APPLE-RADIUS=500;X-TITLE=1799 Lincoln Ave:geo:-87.532398,37.969944
END:VEVENT
BEGIN:VEVENT
DTSTART;TZID=America/Chicago:20260719T091500
DTEND;TZID=America/Chicago:20260719T101500
DTSTAMP:20260419T112112
CREATED:20260108T184551Z
LAST-MODIFIED:20260416T182216Z
UID:10002013-1784452500-1784456100@www.redeemerchurch.org
SUMMARY:Online & In-Person Adult Bible Study
DESCRIPTION:
URL:https://www.redeemerchurch.org/event/online-in-person-adult-bible-study-93/
LOCATION:Lutheran Church of Our Redeemer\, 1799 Lincoln Ave\, Evansville\, IN\, United States
GEO:37.969944;-87.532398
X-APPLE-STRUCTURED-LOCATION;VALUE=URI;X-ADDRESS=Lutheran Church of Our Redeemer 1799 Lincoln Ave Evansville IN United States;X-APPLE-RADIUS=500;X-TITLE=1799 Lincoln Ave:geo:-87.532398,37.969944
END:VEVENT
BEGIN:VEVENT
DTSTART;TZID=America/Chicago:20260719T103000
DTEND;TZID=America/Chicago:20260719T113000
DTSTAMP:20260419T112112
CREATED:20260108T184552Z
LAST-MODIFIED:20260416T182216Z
UID:10002015-1784457000-1784460600@www.redeemerchurch.org
SUMMARY:Traditional Worship @EVV
DESCRIPTION:
URL:https://www.redeemerchurch.org/event/traditional-worship-evv-186/
LOCATION:Lutheran Church of Our Redeemer\, 1799 Lincoln Ave\, Evansville\, IN\, United States
GEO:37.969944;-87.532398
X-APPLE-STRUCTURED-LOCATION;VALUE=URI;X-ADDRESS=Lutheran Church of Our Redeemer 1799 Lincoln Ave Evansville IN United States;X-APPLE-RADIUS=500;X-TITLE=1799 Lincoln Ave:geo:-87.532398,37.969944
END:VEVENT
BEGIN:VEVENT
DTSTART;TZID=America/Chicago:20260726T080000
DTEND;TZID=America/Chicago:20260726T090000
DTSTAMP:20260419T112112
CREATED:20260115T184624Z
LAST-MODIFIED:20260416T182217Z
UID:10002019-1785052800-1785056400@www.redeemerchurch.org
SUMMARY:Traditional Worship @EVV
DESCRIPTION:
URL:https://www.redeemerchurch.org/event/traditional-worship-evv-187/
LOCATION:Lutheran Church of Our Redeemer\, 1799 Lincoln Ave\, Evansville\, IN\, United States
GEO:37.969944;-87.532398
X-APPLE-STRUCTURED-LOCATION;VALUE=URI;X-ADDRESS=Lutheran Church of Our Redeemer 1799 Lincoln Ave Evansville IN United States;X-APPLE-RADIUS=500;X-TITLE=1799 Lincoln Ave:geo:-87.532398,37.969944
END:VEVENT
BEGIN:VEVENT
DTSTART;TZID=America/Chicago:20260726T091500
DTEND;TZID=America/Chicago:20260726T101500
DTSTAMP:20260419T112112
CREATED:20260115T184624Z
LAST-MODIFIED:20260416T182217Z
UID:10002021-1785057300-1785060900@www.redeemerchurch.org
SUMMARY:Online & In-Person Adult Bible Study
DESCRIPTION:
URL:https://www.redeemerchurch.org/event/online-in-person-adult-bible-study-94/
LOCATION:Lutheran Church of Our Redeemer\, 1799 Lincoln Ave\, Evansville\, IN\, United States
GEO:37.969944;-87.532398
X-APPLE-STRUCTURED-LOCATION;VALUE=URI;X-ADDRESS=Lutheran Church of Our Redeemer 1799 Lincoln Ave Evansville IN United States;X-APPLE-RADIUS=500;X-TITLE=1799 Lincoln Ave:geo:-87.532398,37.969944
END:VEVENT
BEGIN:VEVENT
DTSTART;TZID=America/Chicago:20260726T103000
DTEND;TZID=America/Chicago:20260726T113000
DTSTAMP:20260419T112112
CREATED:20260115T184625Z
LAST-MODIFIED:20260416T182217Z
UID:10002023-1785061800-1785065400@www.redeemerchurch.org
SUMMARY:Traditional Worship @EVV
DESCRIPTION:
URL:https://www.redeemerchurch.org/event/traditional-worship-evv-188/
LOCATION:Lutheran Church of Our Redeemer\, 1799 Lincoln Ave\, Evansville\, IN\, United States
GEO:37.969944;-87.532398
X-APPLE-STRUCTURED-LOCATION;VALUE=URI;X-ADDRESS=Lutheran Church of Our Redeemer 1799 Lincoln Ave Evansville IN United States;X-APPLE-RADIUS=500;X-TITLE=1799 Lincoln Ave:geo:-87.532398,37.969944
END:VEVENT
BEGIN:VEVENT
DTSTART;TZID=America/Chicago:20260727T113000
DTEND;TZID=America/Chicago:20260727T130000
DTSTAMP:20260419T112112
CREATED:20260115T184625Z
LAST-MODIFIED:20260416T182219Z
UID:10002024-1785151800-1785157200@www.redeemerchurch.org
SUMMARY:Seniors Lunch
DESCRIPTION:FH 1811 Lincoln Ave\, Evansville\, IN 47714\, USA
URL:https://www.redeemerchurch.org/event/seniors-lunch-22/
LOCATION:Lutheran Church of Our Redeemer\, 1799 Lincoln Ave\, Evansville\, IN\, United States
GEO:37.969944;-87.532398
X-APPLE-STRUCTURED-LOCATION;VALUE=URI;X-ADDRESS=Lutheran Church of Our Redeemer 1799 Lincoln Ave Evansville IN United States;X-APPLE-RADIUS=500;X-TITLE=1799 Lincoln Ave:geo:-87.532398,37.969944
END:VEVENT
BEGIN:VEVENT
DTSTART;TZID=America/Chicago:20260802T080000
DTEND;TZID=America/Chicago:20260802T090000
DTSTAMP:20260419T112112
CREATED:20260122T184557Z
LAST-MODIFIED:20260416T182220Z
UID:10002030-1785657600-1785661200@www.redeemerchurch.org
SUMMARY:Traditional Worship @EVV
DESCRIPTION:
URL:https://www.redeemerchurch.org/event/traditional-worship-evv-189/
LOCATION:Lutheran Church of Our Redeemer\, 1799 Lincoln Ave\, Evansville\, IN\, United States
GEO:37.969944;-87.532398
X-APPLE-STRUCTURED-LOCATION;VALUE=URI;X-ADDRESS=Lutheran Church of Our Redeemer 1799 Lincoln Ave Evansville IN United States;X-APPLE-RADIUS=500;X-TITLE=1799 Lincoln Ave:geo:-87.532398,37.969944
END:VEVENT
BEGIN:VEVENT
DTSTART;TZID=America/Chicago:20260802T091500
DTEND;TZID=America/Chicago:20260802T101500
DTSTAMP:20260419T112112
CREATED:20260122T184557Z
LAST-MODIFIED:20260416T182220Z
UID:10002031-1785662100-1785665700@www.redeemerchurch.org
SUMMARY:Online & In-Person Adult Bible Study
DESCRIPTION:
URL:https://www.redeemerchurch.org/event/online-in-person-adult-bible-study-95/
LOCATION:Lutheran Church of Our Redeemer\, 1799 Lincoln Ave\, Evansville\, IN\, United States
GEO:37.969944;-87.532398
X-APPLE-STRUCTURED-LOCATION;VALUE=URI;X-ADDRESS=Lutheran Church of Our Redeemer 1799 Lincoln Ave Evansville IN United States;X-APPLE-RADIUS=500;X-TITLE=1799 Lincoln Ave:geo:-87.532398,37.969944
END:VEVENT
BEGIN:VEVENT
DTSTART;TZID=America/Chicago:20260802T103000
DTEND;TZID=America/Chicago:20260802T113000
DTSTAMP:20260419T112112
CREATED:20260122T184558Z
LAST-MODIFIED:20260416T182220Z
UID:10002034-1785666600-1785670200@www.redeemerchurch.org
SUMMARY:Traditional Worship @EVV
DESCRIPTION:
URL:https://www.redeemerchurch.org/event/traditional-worship-evv-190/
LOCATION:Lutheran Church of Our Redeemer\, 1799 Lincoln Ave\, Evansville\, IN\, United States
GEO:37.969944;-87.532398
X-APPLE-STRUCTURED-LOCATION;VALUE=URI;X-ADDRESS=Lutheran Church of Our Redeemer 1799 Lincoln Ave Evansville IN United States;X-APPLE-RADIUS=500;X-TITLE=1799 Lincoln Ave:geo:-87.532398,37.969944
END:VEVENT
BEGIN:VEVENT
DTSTART;TZID=America/Chicago:20260809T080000
DTEND;TZID=America/Chicago:20260809T090000
DTSTAMP:20260419T112112
CREATED:20260122T184558Z
LAST-MODIFIED:20260416T182221Z
UID:10002038-1786262400-1786266000@www.redeemerchurch.org
SUMMARY:Traditional Worship @EVV
DESCRIPTION:
URL:https://www.redeemerchurch.org/event/traditional-worship-evv-191/
LOCATION:Lutheran Church of Our Redeemer\, 1799 Lincoln Ave\, Evansville\, IN\, United States
GEO:37.969944;-87.532398
X-APPLE-STRUCTURED-LOCATION;VALUE=URI;X-ADDRESS=Lutheran Church of Our Redeemer 1799 Lincoln Ave Evansville IN United States;X-APPLE-RADIUS=500;X-TITLE=1799 Lincoln Ave:geo:-87.532398,37.969944
END:VEVENT
BEGIN:VEVENT
DTSTART;TZID=America/Chicago:20260809T091500
DTEND;TZID=America/Chicago:20260809T101500
DTSTAMP:20260419T112112
CREATED:20260122T184559Z
LAST-MODIFIED:20260416T182221Z
UID:10002040-1786266900-1786270500@www.redeemerchurch.org
SUMMARY:Online & In-Person Adult Bible Study
DESCRIPTION:
URL:https://www.redeemerchurch.org/event/online-in-person-adult-bible-study-96/
LOCATION:Lutheran Church of Our Redeemer\, 1799 Lincoln Ave\, Evansville\, IN\, United States
GEO:37.969944;-87.532398
X-APPLE-STRUCTURED-LOCATION;VALUE=URI;X-ADDRESS=Lutheran Church of Our Redeemer 1799 Lincoln Ave Evansville IN United States;X-APPLE-RADIUS=500;X-TITLE=1799 Lincoln Ave:geo:-87.532398,37.969944
END:VEVENT
BEGIN:VEVENT
DTSTART;TZID=America/Chicago:20260809T103000
DTEND;TZID=America/Chicago:20260809T113000
DTSTAMP:20260419T112112
CREATED:20260122T184559Z
LAST-MODIFIED:20260416T182222Z
UID:10002041-1786271400-1786275000@www.redeemerchurch.org
SUMMARY:Traditional Worship @EVV
DESCRIPTION:
URL:https://www.redeemerchurch.org/event/traditional-worship-evv-192/
LOCATION:Lutheran Church of Our Redeemer\, 1799 Lincoln Ave\, Evansville\, IN\, United States
GEO:37.969944;-87.532398
X-APPLE-STRUCTURED-LOCATION;VALUE=URI;X-ADDRESS=Lutheran Church of Our Redeemer 1799 Lincoln Ave Evansville IN United States;X-APPLE-RADIUS=500;X-TITLE=1799 Lincoln Ave:geo:-87.532398,37.969944
END:VEVENT
BEGIN:VEVENT
DTSTART;TZID=America/Chicago:20260816T080000
DTEND;TZID=America/Chicago:20260816T090000
DTSTAMP:20260419T112112
CREATED:20260129T184558Z
LAST-MODIFIED:20260416T182222Z
UID:10002049-1786867200-1786870800@www.redeemerchurch.org
SUMMARY:Traditional Worship @EVV
DESCRIPTION:
URL:https://www.redeemerchurch.org/event/traditional-worship-evv-193/
LOCATION:Lutheran Church of Our Redeemer\, 1799 Lincoln Ave\, Evansville\, IN\, United States
GEO:37.969944;-87.532398
X-APPLE-STRUCTURED-LOCATION;VALUE=URI;X-ADDRESS=Lutheran Church of Our Redeemer 1799 Lincoln Ave Evansville IN United States;X-APPLE-RADIUS=500;X-TITLE=1799 Lincoln Ave:geo:-87.532398,37.969944
END:VEVENT
BEGIN:VEVENT
DTSTART;TZID=America/Chicago:20260816T091500
DTEND;TZID=America/Chicago:20260816T101500
DTSTAMP:20260419T112112
CREATED:20260129T184558Z
LAST-MODIFIED:20260416T182223Z
UID:10002050-1786871700-1786875300@www.redeemerchurch.org
SUMMARY:Online & In-Person Adult Bible Study
DESCRIPTION:
URL:https://www.redeemerchurch.org/event/online-in-person-adult-bible-study-97/
LOCATION:Lutheran Church of Our Redeemer\, 1799 Lincoln Ave\, Evansville\, IN\, United States
GEO:37.969944;-87.532398
X-APPLE-STRUCTURED-LOCATION;VALUE=URI;X-ADDRESS=Lutheran Church of Our Redeemer 1799 Lincoln Ave Evansville IN United States;X-APPLE-RADIUS=500;X-TITLE=1799 Lincoln Ave:geo:-87.532398,37.969944
END:VEVENT
BEGIN:VEVENT
DTSTART;TZID=America/Chicago:20260816T103000
DTEND;TZID=America/Chicago:20260816T113000
DTSTAMP:20260419T112112
CREATED:20260129T184558Z
LAST-MODIFIED:20260416T182223Z
UID:10002052-1786876200-1786879800@www.redeemerchurch.org
SUMMARY:Traditional Worship @EVV
DESCRIPTION:
URL:https://www.redeemerchurch.org/event/traditional-worship-evv-194/
LOCATION:Lutheran Church of Our Redeemer\, 1799 Lincoln Ave\, Evansville\, IN\, United States
GEO:37.969944;-87.532398
X-APPLE-STRUCTURED-LOCATION;VALUE=URI;X-ADDRESS=Lutheran Church of Our Redeemer 1799 Lincoln Ave Evansville IN United States;X-APPLE-RADIUS=500;X-TITLE=1799 Lincoln Ave:geo:-87.532398,37.969944
END:VEVENT
BEGIN:VEVENT
DTSTART;TZID=America/Chicago:20260823T080000
DTEND;TZID=America/Chicago:20260823T090000
DTSTAMP:20260419T112112
CREATED:20260212T190129Z
LAST-MODIFIED:20260416T182224Z
UID:10002100-1787472000-1787475600@www.redeemerchurch.org
SUMMARY:Traditional Worship @EVV
DESCRIPTION:
URL:https://www.redeemerchurch.org/event/traditional-worship-evv-195/
LOCATION:Lutheran Church of Our Redeemer\, 1799 Lincoln Ave\, Evansville\, IN\, United States
GEO:37.969944;-87.532398
X-APPLE-STRUCTURED-LOCATION;VALUE=URI;X-ADDRESS=Lutheran Church of Our Redeemer 1799 Lincoln Ave Evansville IN United States;X-APPLE-RADIUS=500;X-TITLE=1799 Lincoln Ave:geo:-87.532398,37.969944
END:VEVENT
BEGIN:VEVENT
DTSTART;TZID=America/Chicago:20260823T091500
DTEND;TZID=America/Chicago:20260823T101500
DTSTAMP:20260419T112112
CREATED:20260212T190129Z
LAST-MODIFIED:20260416T182224Z
UID:10002101-1787476500-1787480100@www.redeemerchurch.org
SUMMARY:Online & In-Person Adult Bible Study
DESCRIPTION:
URL:https://www.redeemerchurch.org/event/online-in-person-adult-bible-study-98/
LOCATION:Lutheran Church of Our Redeemer\, 1799 Lincoln Ave\, Evansville\, IN\, United States
GEO:37.969944;-87.532398
X-APPLE-STRUCTURED-LOCATION;VALUE=URI;X-ADDRESS=Lutheran Church of Our Redeemer 1799 Lincoln Ave Evansville IN United States;X-APPLE-RADIUS=500;X-TITLE=1799 Lincoln Ave:geo:-87.532398,37.969944
END:VEVENT
BEGIN:VEVENT
DTSTART;TZID=America/Chicago:20260823T103000
DTEND;TZID=America/Chicago:20260823T113000
DTSTAMP:20260419T112112
CREATED:20260212T190129Z
LAST-MODIFIED:20260416T182224Z
UID:10002104-1787481000-1787484600@www.redeemerchurch.org
SUMMARY:Traditional Worship @EVV
DESCRIPTION:
URL:https://www.redeemerchurch.org/event/traditional-worship-evv-196/
LOCATION:Lutheran Church of Our Redeemer\, 1799 Lincoln Ave\, Evansville\, IN\, United States
GEO:37.969944;-87.532398
X-APPLE-STRUCTURED-LOCATION;VALUE=URI;X-ADDRESS=Lutheran Church of Our Redeemer 1799 Lincoln Ave Evansville IN United States;X-APPLE-RADIUS=500;X-TITLE=1799 Lincoln Ave:geo:-87.532398,37.969944
END:VEVENT
BEGIN:VEVENT
DTSTART;TZID=America/Chicago:20260824T113000
DTEND;TZID=America/Chicago:20260824T130000
DTSTAMP:20260419T112112
CREATED:20260212T190129Z
LAST-MODIFIED:20260416T182225Z
UID:10002105-1787571000-1787576400@www.redeemerchurch.org
SUMMARY:Seniors Lunch
DESCRIPTION:FH 1811 Lincoln Ave\, Evansville\, IN 47714\, USA
URL:https://www.redeemerchurch.org/event/seniors-lunch-23/
LOCATION:Lutheran Church of Our Redeemer\, 1799 Lincoln Ave\, Evansville\, IN\, United States
GEO:37.969944;-87.532398
X-APPLE-STRUCTURED-LOCATION;VALUE=URI;X-ADDRESS=Lutheran Church of Our Redeemer 1799 Lincoln Ave Evansville IN United States;X-APPLE-RADIUS=500;X-TITLE=1799 Lincoln Ave:geo:-87.532398,37.969944
END:VEVENT
BEGIN:VEVENT
DTSTART;TZID=America/Chicago:20260830T080000
DTEND;TZID=America/Chicago:20260830T090000
DTSTAMP:20260419T112112
CREATED:20260212T190130Z
LAST-MODIFIED:20260416T182225Z
UID:10002109-1788076800-1788080400@www.redeemerchurch.org
SUMMARY:Traditional Worship @EVV
DESCRIPTION:
URL:https://www.redeemerchurch.org/event/traditional-worship-evv-197/
LOCATION:Lutheran Church of Our Redeemer\, 1799 Lincoln Ave\, Evansville\, IN\, United States
GEO:37.969944;-87.532398
X-APPLE-STRUCTURED-LOCATION;VALUE=URI;X-ADDRESS=Lutheran Church of Our Redeemer 1799 Lincoln Ave Evansville IN United States;X-APPLE-RADIUS=500;X-TITLE=1799 Lincoln Ave:geo:-87.532398,37.969944
END:VEVENT
BEGIN:VEVENT
DTSTART;TZID=America/Chicago:20260830T091500
DTEND;TZID=America/Chicago:20260830T101500
DTSTAMP:20260419T112112
CREATED:20260219T190047Z
LAST-MODIFIED:20260416T182225Z
UID:10002112-1788081300-1788084900@www.redeemerchurch.org
SUMMARY:Online & In-Person Adult Bible Study
DESCRIPTION:
URL:https://www.redeemerchurch.org/event/online-in-person-adult-bible-study-99/
LOCATION:Lutheran Church of Our Redeemer\, 1799 Lincoln Ave\, Evansville\, IN\, United States
GEO:37.969944;-87.532398
X-APPLE-STRUCTURED-LOCATION;VALUE=URI;X-ADDRESS=Lutheran Church of Our Redeemer 1799 Lincoln Ave Evansville IN United States;X-APPLE-RADIUS=500;X-TITLE=1799 Lincoln Ave:geo:-87.532398,37.969944
END:VEVENT
BEGIN:VEVENT
DTSTART;TZID=America/Chicago:20260830T103000
DTEND;TZID=America/Chicago:20260830T113000
DTSTAMP:20260419T112112
CREATED:20260219T190048Z
LAST-MODIFIED:20260416T182226Z
UID:10002113-1788085800-1788089400@www.redeemerchurch.org
SUMMARY:Traditional Worship @EVV
DESCRIPTION:
URL:https://www.redeemerchurch.org/event/traditional-worship-evv-198/
LOCATION:Lutheran Church of Our Redeemer\, 1799 Lincoln Ave\, Evansville\, IN\, United States
GEO:37.969944;-87.532398
X-APPLE-STRUCTURED-LOCATION;VALUE=URI;X-ADDRESS=Lutheran Church of Our Redeemer 1799 Lincoln Ave Evansville IN United States;X-APPLE-RADIUS=500;X-TITLE=1799 Lincoln Ave:geo:-87.532398,37.969944
END:VEVENT
BEGIN:VEVENT
DTSTART;TZID=America/Chicago:20260906T080000
DTEND;TZID=America/Chicago:20260906T090000
DTSTAMP:20260419T112112
CREATED:20260219T190049Z
LAST-MODIFIED:20260416T182227Z
UID:10002120-1788681600-1788685200@www.redeemerchurch.org
SUMMARY:Traditional Worship @EVV
DESCRIPTION:
URL:https://www.redeemerchurch.org/event/traditional-worship-evv-199/
LOCATION:Lutheran Church of Our Redeemer\, 1799 Lincoln Ave\, Evansville\, IN\, United States
GEO:37.969944;-87.532398
X-APPLE-STRUCTURED-LOCATION;VALUE=URI;X-ADDRESS=Lutheran Church of Our Redeemer 1799 Lincoln Ave Evansville IN United States;X-APPLE-RADIUS=500;X-TITLE=1799 Lincoln Ave:geo:-87.532398,37.969944
END:VEVENT
BEGIN:VEVENT
DTSTART;TZID=America/Chicago:20260906T091500
DTEND;TZID=America/Chicago:20260906T101500
DTSTAMP:20260419T112112
CREATED:20260219T190049Z
LAST-MODIFIED:20260416T182227Z
UID:10002121-1788686100-1788689700@www.redeemerchurch.org
SUMMARY:Online & In-Person Adult Bible Study
DESCRIPTION:
URL:https://www.redeemerchurch.org/event/online-in-person-adult-bible-study-100/
LOCATION:Lutheran Church of Our Redeemer\, 1799 Lincoln Ave\, Evansville\, IN\, United States
GEO:37.969944;-87.532398
X-APPLE-STRUCTURED-LOCATION;VALUE=URI;X-ADDRESS=Lutheran Church of Our Redeemer 1799 Lincoln Ave Evansville IN United States;X-APPLE-RADIUS=500;X-TITLE=1799 Lincoln Ave:geo:-87.532398,37.969944
END:VEVENT
BEGIN:VEVENT
DTSTART;TZID=America/Chicago:20260906T103000
DTEND;TZID=America/Chicago:20260906T113000
DTSTAMP:20260419T112112
CREATED:20260219T190049Z
LAST-MODIFIED:20260416T182227Z
UID:10002123-1788690600-1788694200@www.redeemerchurch.org
SUMMARY:Traditional Worship @EVV
DESCRIPTION:
URL:https://www.redeemerchurch.org/event/traditional-worship-evv-200/
LOCATION:Lutheran Church of Our Redeemer\, 1799 Lincoln Ave\, Evansville\, IN\, United States
GEO:37.969944;-87.532398
X-APPLE-STRUCTURED-LOCATION;VALUE=URI;X-ADDRESS=Lutheran Church of Our Redeemer 1799 Lincoln Ave Evansville IN United States;X-APPLE-RADIUS=500;X-TITLE=1799 Lincoln Ave:geo:-87.532398,37.969944
END:VEVENT
BEGIN:VEVENT
DTSTART;TZID=America/Chicago:20260913T080000
DTEND;TZID=America/Chicago:20260913T090000
DTSTAMP:20260419T112112
CREATED:20260409T192355Z
LAST-MODIFIED:20260416T182228Z
UID:10002227-1789286400-1789290000@www.redeemerchurch.org
SUMMARY:Traditional Worship @EVV
DESCRIPTION:
URL:https://www.redeemerchurch.org/event/traditional-worship-evv-201/
LOCATION:Lutheran Church of Our Redeemer\, 1799 Lincoln Ave\, Evansville\, IN\, United States
GEO:37.969944;-87.532398
X-APPLE-STRUCTURED-LOCATION;VALUE=URI;X-ADDRESS=Lutheran Church of Our Redeemer 1799 Lincoln Ave Evansville IN United States;X-APPLE-RADIUS=500;X-TITLE=1799 Lincoln Ave:geo:-87.532398,37.969944
END:VEVENT
BEGIN:VEVENT
DTSTART;TZID=America/Chicago:20260913T091500
DTEND;TZID=America/Chicago:20260913T101500
DTSTAMP:20260419T112112
CREATED:20260409T192356Z
LAST-MODIFIED:20260416T182228Z
UID:10002229-1789290900-1789294500@www.redeemerchurch.org
SUMMARY:Online & In-Person Adult Bible Study
DESCRIPTION:
URL:https://www.redeemerchurch.org/event/online-in-person-adult-bible-study-101/
LOCATION:Lutheran Church of Our Redeemer\, 1799 Lincoln Ave\, Evansville\, IN\, United States
GEO:37.969944;-87.532398
X-APPLE-STRUCTURED-LOCATION;VALUE=URI;X-ADDRESS=Lutheran Church of Our Redeemer 1799 Lincoln Ave Evansville IN United States;X-APPLE-RADIUS=500;X-TITLE=1799 Lincoln Ave:geo:-87.532398,37.969944
END:VEVENT
BEGIN:VEVENT
DTSTART;TZID=America/Chicago:20260913T103000
DTEND;TZID=America/Chicago:20260913T113000
DTSTAMP:20260419T112112
CREATED:20260409T192356Z
LAST-MODIFIED:20260416T182228Z
UID:10002230-1789295400-1789299000@www.redeemerchurch.org
SUMMARY:Traditional Worship @EVV
DESCRIPTION:
URL:https://www.redeemerchurch.org/event/traditional-worship-evv-202/
LOCATION:Lutheran Church of Our Redeemer\, 1799 Lincoln Ave\, Evansville\, IN\, United States
GEO:37.969944;-87.532398
X-APPLE-STRUCTURED-LOCATION;VALUE=URI;X-ADDRESS=Lutheran Church of Our Redeemer 1799 Lincoln Ave Evansville IN United States;X-APPLE-RADIUS=500;X-TITLE=1799 Lincoln Ave:geo:-87.532398,37.969944
END:VEVENT
BEGIN:VEVENT
DTSTART;TZID=America/Chicago:20260920T080000
DTEND;TZID=America/Chicago:20260920T090000
DTSTAMP:20260419T112112
CREATED:20260409T192357Z
LAST-MODIFIED:20260409T192357Z
UID:10002239-1789891200-1789894800@www.redeemerchurch.org
SUMMARY:Traditional Worship @EVV
DESCRIPTION:
URL:https://www.redeemerchurch.org/event/traditional-worship-evv-203/
LOCATION:Lutheran Church of Our Redeemer\, 1799 Lincoln Ave\, Evansville\, IN\, United States
GEO:37.969944;-87.532398
X-APPLE-STRUCTURED-LOCATION;VALUE=URI;X-ADDRESS=Lutheran Church of Our Redeemer 1799 Lincoln Ave Evansville IN United States;X-APPLE-RADIUS=500;X-TITLE=1799 Lincoln Ave:geo:-87.532398,37.969944
END:VEVENT
END:VCALENDAR