BEGIN:VCALENDAR
VERSION:2.0
PRODID:-//Lutheran Church of Our Redeemer - ECPv6.15.20//NONSGML v1.0//EN
CALSCALE:GREGORIAN
METHOD:PUBLISH
X-WR-CALNAME:Lutheran Church of Our Redeemer
X-ORIGINAL-URL:https://www.redeemerchurch.org
X-WR-CALDESC:Events for Lutheran Church of Our Redeemer
REFRESH-INTERVAL;VALUE=DURATION:PT1H
X-Robots-Tag:noindex
X-PUBLISHED-TTL:PT1H
BEGIN:VTIMEZONE
TZID:America/Chicago
BEGIN:DAYLIGHT
TZOFFSETFROM:-0600
TZOFFSETTO:-0500
TZNAME:CDT
DTSTART:20240310T080000
END:DAYLIGHT
BEGIN:STANDARD
TZOFFSETFROM:-0500
TZOFFSETTO:-0600
TZNAME:CST
DTSTART:20241103T070000
END:STANDARD
BEGIN:DAYLIGHT
TZOFFSETFROM:-0600
TZOFFSETTO:-0500
TZNAME:CDT
DTSTART:20250309T080000
END:DAYLIGHT
BEGIN:STANDARD
TZOFFSETFROM:-0500
TZOFFSETTO:-0600
TZNAME:CST
DTSTART:20251102T070000
END:STANDARD
BEGIN:DAYLIGHT
TZOFFSETFROM:-0600
TZOFFSETTO:-0500
TZNAME:CDT
DTSTART:20260308T080000
END:DAYLIGHT
BEGIN:STANDARD
TZOFFSETFROM:-0500
TZOFFSETTO:-0600
TZNAME:CST
DTSTART:20261101T070000
END:STANDARD
BEGIN:DAYLIGHT
TZOFFSETFROM:-0600
TZOFFSETTO:-0500
TZNAME:CDT
DTSTART:20270314T080000
END:DAYLIGHT
BEGIN:STANDARD
TZOFFSETFROM:-0500
TZOFFSETTO:-0600
TZNAME:CST
DTSTART:20271107T070000
END:STANDARD
END:VTIMEZONE
BEGIN:VEVENT
DTSTART;TZID=America/Chicago:20260118T103000
DTEND;TZID=America/Chicago:20260118T113000
DTSTAMP:20260419T150934
CREATED:20250819T191800Z
LAST-MODIFIED:20260115T184554Z
UID:10001513-1768732200-1768735800@www.redeemerchurch.org
SUMMARY:Traditional Worship @EVV
DESCRIPTION:
URL:https://www.redeemerchurch.org/event/traditional-worship-evv-134/
LOCATION:Lutheran Church of Our Redeemer\, 1799 Lincoln Ave\, Evansville\, IN\, United States
GEO:37.969944;-87.532398
X-APPLE-STRUCTURED-LOCATION;VALUE=URI;X-ADDRESS=Lutheran Church of Our Redeemer 1799 Lincoln Ave Evansville IN United States;X-APPLE-RADIUS=500;X-TITLE=1799 Lincoln Ave:geo:-87.532398,37.969944
END:VEVENT
BEGIN:VEVENT
DTSTART;TZID=America/Chicago:20260118T091500
DTEND;TZID=America/Chicago:20260118T101500
DTSTAMP:20260419T150934
CREATED:20250819T191800Z
LAST-MODIFIED:20260115T184554Z
UID:10001511-1768727700-1768731300@www.redeemerchurch.org
SUMMARY:Online & In-Person Adult Bible Study
DESCRIPTION:
URL:https://www.redeemerchurch.org/event/online-in-person-adult-bible-study-67/
LOCATION:Lutheran Church of Our Redeemer\, 1799 Lincoln Ave\, Evansville\, IN\, United States
GEO:37.969944;-87.532398
X-APPLE-STRUCTURED-LOCATION;VALUE=URI;X-ADDRESS=Lutheran Church of Our Redeemer 1799 Lincoln Ave Evansville IN United States;X-APPLE-RADIUS=500;X-TITLE=1799 Lincoln Ave:geo:-87.532398,37.969944
END:VEVENT
BEGIN:VEVENT
DTSTART;TZID=America/Chicago:20260118T080000
DTEND;TZID=America/Chicago:20260118T090000
DTSTAMP:20260419T150934
CREATED:20250819T191800Z
LAST-MODIFIED:20260115T184554Z
UID:10001509-1768723200-1768726800@www.redeemerchurch.org
SUMMARY:Traditional Worship @EVV
DESCRIPTION:
URL:https://www.redeemerchurch.org/event/traditional-worship-evv-133/
LOCATION:Lutheran Church of Our Redeemer\, 1799 Lincoln Ave\, Evansville\, IN\, United States
GEO:37.969944;-87.532398
X-APPLE-STRUCTURED-LOCATION;VALUE=URI;X-ADDRESS=Lutheran Church of Our Redeemer 1799 Lincoln Ave Evansville IN United States;X-APPLE-RADIUS=500;X-TITLE=1799 Lincoln Ave:geo:-87.532398,37.969944
END:VEVENT
BEGIN:VEVENT
DTSTART;TZID=America/Chicago:20260114T183000
DTEND;TZID=America/Chicago:20260114T200000
DTSTAMP:20260419T150934
CREATED:20251029T154521Z
LAST-MODIFIED:20260108T184523Z
UID:10001839-1768415400-1768420800@www.redeemerchurch.org
SUMMARY:Choir Practice
DESCRIPTION:
URL:https://www.redeemerchurch.org/event/choir-practice-49/
LOCATION:Lutheran Church of Our Redeemer\, 1799 Lincoln Ave\, Evansville\, IN\, United States
GEO:37.969944;-87.532398
X-APPLE-STRUCTURED-LOCATION;VALUE=URI;X-ADDRESS=Lutheran Church of Our Redeemer 1799 Lincoln Ave Evansville IN United States;X-APPLE-RADIUS=500;X-TITLE=1799 Lincoln Ave:geo:-87.532398,37.969944
END:VEVENT
BEGIN:VEVENT
DTSTART;TZID=America/Chicago:20260111T183000
DTEND;TZID=America/Chicago:20260111T200000
DTSTAMP:20260419T150934
CREATED:20250819T191759Z
LAST-MODIFIED:20251218T180318Z
UID:10001503-1768156200-1768161600@www.redeemerchurch.org
SUMMARY:LYF-Bible Study@EVV
DESCRIPTION:
URL:https://www.redeemerchurch.org/event/lyf-bible-studyevv/
LOCATION:Lutheran Church of Our Redeemer\, 1799 Lincoln Ave\, Evansville\, IN\, United States
GEO:37.969944;-87.532398
X-APPLE-STRUCTURED-LOCATION;VALUE=URI;X-ADDRESS=Lutheran Church of Our Redeemer 1799 Lincoln Ave Evansville IN United States;X-APPLE-RADIUS=500;X-TITLE=1799 Lincoln Ave:geo:-87.532398,37.969944
END:VEVENT
BEGIN:VEVENT
DTSTART;TZID=America/Chicago:20260111T103000
DTEND;TZID=America/Chicago:20260111T113000
DTSTAMP:20260419T150934
CREATED:20250819T191759Z
LAST-MODIFIED:20260108T184509Z
UID:10001501-1768127400-1768131000@www.redeemerchurch.org
SUMMARY:Traditional Worship @EVV
DESCRIPTION:
URL:https://www.redeemerchurch.org/event/traditional-worship-evv-132/
LOCATION:Lutheran Church of Our Redeemer\, 1799 Lincoln Ave\, Evansville\, IN\, United States
GEO:37.969944;-87.532398
X-APPLE-STRUCTURED-LOCATION;VALUE=URI;X-ADDRESS=Lutheran Church of Our Redeemer 1799 Lincoln Ave Evansville IN United States;X-APPLE-RADIUS=500;X-TITLE=1799 Lincoln Ave:geo:-87.532398,37.969944
END:VEVENT
BEGIN:VEVENT
DTSTART;TZID=America/Chicago:20260111T091500
DTEND;TZID=America/Chicago:20260111T101500
DTSTAMP:20260419T150934
CREATED:20250819T191759Z
LAST-MODIFIED:20260108T184509Z
UID:10001498-1768122900-1768126500@www.redeemerchurch.org
SUMMARY:Online & In-Person Adult Bible Study
DESCRIPTION:
URL:https://www.redeemerchurch.org/event/online-in-person-adult-bible-study-66/
LOCATION:Lutheran Church of Our Redeemer\, 1799 Lincoln Ave\, Evansville\, IN\, United States
GEO:37.969944;-87.532398
X-APPLE-STRUCTURED-LOCATION;VALUE=URI;X-ADDRESS=Lutheran Church of Our Redeemer 1799 Lincoln Ave Evansville IN United States;X-APPLE-RADIUS=500;X-TITLE=1799 Lincoln Ave:geo:-87.532398,37.969944
END:VEVENT
BEGIN:VEVENT
DTSTART;TZID=America/Chicago:20260111T080000
DTEND;TZID=America/Chicago:20260111T090000
DTSTAMP:20260419T150934
CREATED:20250819T191759Z
LAST-MODIFIED:20260108T184509Z
UID:10001497-1768118400-1768122000@www.redeemerchurch.org
SUMMARY:Traditional Worship @EVV
DESCRIPTION:
URL:https://www.redeemerchurch.org/event/traditional-worship-evv-131/
LOCATION:Lutheran Church of Our Redeemer\, 1799 Lincoln Ave\, Evansville\, IN\, United States
GEO:37.969944;-87.532398
X-APPLE-STRUCTURED-LOCATION;VALUE=URI;X-ADDRESS=Lutheran Church of Our Redeemer 1799 Lincoln Ave Evansville IN United States;X-APPLE-RADIUS=500;X-TITLE=1799 Lincoln Ave:geo:-87.532398,37.969944
END:VEVENT
BEGIN:VEVENT
DTSTART;TZID=America/Chicago:20260107T183000
DTEND;TZID=America/Chicago:20260107T200000
DTSTAMP:20260419T150934
CREATED:20251029T154519Z
LAST-MODIFIED:20260101T183211Z
UID:10001836-1767810600-1767816000@www.redeemerchurch.org
SUMMARY:Choir Practice
DESCRIPTION:
URL:https://www.redeemerchurch.org/event/choir-practice-48/
LOCATION:Lutheran Church of Our Redeemer\, 1799 Lincoln Ave\, Evansville\, IN\, United States
GEO:37.969944;-87.532398
X-APPLE-STRUCTURED-LOCATION;VALUE=URI;X-ADDRESS=Lutheran Church of Our Redeemer 1799 Lincoln Ave Evansville IN United States;X-APPLE-RADIUS=500;X-TITLE=1799 Lincoln Ave:geo:-87.532398,37.969944
END:VEVENT
BEGIN:VEVENT
DTSTART;VALUE=DATE:20260106
DTEND;VALUE=DATE:20260107
DTSTAMP:20260419T150934
CREATED:20250819T191758Z
LAST-MODIFIED:20260101T183158Z
UID:10001492-1767657600-1767743999@www.redeemerchurch.org
SUMMARY:Preschool-School resumes for 2 day students
DESCRIPTION:
URL:https://www.redeemerchurch.org/event/preschool-school-resumes-for-2-day-students/
LOCATION:Lutheran Church of Our Redeemer\, 1799 Lincoln Ave\, Evansville\, IN\, United States
GEO:37.969944;-87.532398
X-APPLE-STRUCTURED-LOCATION;VALUE=URI;X-ADDRESS=Lutheran Church of Our Redeemer 1799 Lincoln Ave Evansville IN United States;X-APPLE-RADIUS=500;X-TITLE=1799 Lincoln Ave:geo:-87.532398,37.969944
END:VEVENT
BEGIN:VEVENT
DTSTART;VALUE=DATE:20260105
DTEND;VALUE=DATE:20260106
DTSTAMP:20260419T150934
CREATED:20250819T191758Z
LAST-MODIFIED:20260101T183210Z
UID:10001493-1767571200-1767657599@www.redeemerchurch.org
SUMMARY:Preschool-School resumes for 3 and 5 day students
DESCRIPTION:
URL:https://www.redeemerchurch.org/event/preschool-school-resumes-for-3-and-5-day-students/
LOCATION:Lutheran Church of Our Redeemer\, 1799 Lincoln Ave\, Evansville\, IN\, United States
GEO:37.969944;-87.532398
X-APPLE-STRUCTURED-LOCATION;VALUE=URI;X-ADDRESS=Lutheran Church of Our Redeemer 1799 Lincoln Ave Evansville IN United States;X-APPLE-RADIUS=500;X-TITLE=1799 Lincoln Ave:geo:-87.532398,37.969944
END:VEVENT
BEGIN:VEVENT
DTSTART;TZID=America/Chicago:20260104T103000
DTEND;TZID=America/Chicago:20260104T113000
DTSTAMP:20260419T150934
CREATED:20250819T191758Z
LAST-MODIFIED:20260101T183157Z
UID:10001489-1767522600-1767526200@www.redeemerchurch.org
SUMMARY:Traditional Worship @EVV
DESCRIPTION:
URL:https://www.redeemerchurch.org/event/traditional-worship-evv-130/
LOCATION:Lutheran Church of Our Redeemer\, 1799 Lincoln Ave\, Evansville\, IN\, United States
GEO:37.969944;-87.532398
X-APPLE-STRUCTURED-LOCATION;VALUE=URI;X-ADDRESS=Lutheran Church of Our Redeemer 1799 Lincoln Ave Evansville IN United States;X-APPLE-RADIUS=500;X-TITLE=1799 Lincoln Ave:geo:-87.532398,37.969944
END:VEVENT
BEGIN:VEVENT
DTSTART;TZID=America/Chicago:20260104T091500
DTEND;TZID=America/Chicago:20260104T101500
DTSTAMP:20260419T150934
CREATED:20250819T191758Z
LAST-MODIFIED:20260101T183157Z
UID:10001486-1767518100-1767521700@www.redeemerchurch.org
SUMMARY:Online & In-Person Adult Bible Study
DESCRIPTION:
URL:https://www.redeemerchurch.org/event/online-in-person-adult-bible-study-65/
LOCATION:Lutheran Church of Our Redeemer\, 1799 Lincoln Ave\, Evansville\, IN\, United States
GEO:37.969944;-87.532398
X-APPLE-STRUCTURED-LOCATION;VALUE=URI;X-ADDRESS=Lutheran Church of Our Redeemer 1799 Lincoln Ave Evansville IN United States;X-APPLE-RADIUS=500;X-TITLE=1799 Lincoln Ave:geo:-87.532398,37.969944
END:VEVENT
BEGIN:VEVENT
DTSTART;TZID=America/Chicago:20260104T080000
DTEND;TZID=America/Chicago:20260104T090000
DTSTAMP:20260419T150934
CREATED:20250819T191757Z
LAST-MODIFIED:20260101T183157Z
UID:10001485-1767513600-1767517200@www.redeemerchurch.org
SUMMARY:Traditional Worship @EVV
DESCRIPTION:
URL:https://www.redeemerchurch.org/event/traditional-worship-evv-129/
LOCATION:Lutheran Church of Our Redeemer\, 1799 Lincoln Ave\, Evansville\, IN\, United States
GEO:37.969944;-87.532398
X-APPLE-STRUCTURED-LOCATION;VALUE=URI;X-ADDRESS=Lutheran Church of Our Redeemer 1799 Lincoln Ave Evansville IN United States;X-APPLE-RADIUS=500;X-TITLE=1799 Lincoln Ave:geo:-87.532398,37.969944
END:VEVENT
BEGIN:VEVENT
DTSTART;TZID=America/Chicago:20251231T183000
DTEND;TZID=America/Chicago:20251231T200000
DTSTAMP:20260419T150934
CREATED:20251029T154517Z
LAST-MODIFIED:20251225T181513Z
UID:10001832-1767205800-1767211200@www.redeemerchurch.org
SUMMARY:Choir Practice
DESCRIPTION:
URL:https://www.redeemerchurch.org/event/choir-practice-47/
LOCATION:Lutheran Church of Our Redeemer\, 1799 Lincoln Ave\, Evansville\, IN\, United States
GEO:37.969944;-87.532398
X-APPLE-STRUCTURED-LOCATION;VALUE=URI;X-ADDRESS=Lutheran Church of Our Redeemer 1799 Lincoln Ave Evansville IN United States;X-APPLE-RADIUS=500;X-TITLE=1799 Lincoln Ave:geo:-87.532398,37.969944
END:VEVENT
BEGIN:VEVENT
DTSTART;TZID=America/Chicago:20251228T103000
DTEND;TZID=America/Chicago:20251228T113000
DTSTAMP:20260419T150934
CREATED:20250819T191757Z
LAST-MODIFIED:20251225T181513Z
UID:10001478-1766917800-1766921400@www.redeemerchurch.org
SUMMARY:Traditional Worship @EVV
DESCRIPTION:
URL:https://www.redeemerchurch.org/event/traditional-worship-evv-128/
LOCATION:Lutheran Church of Our Redeemer\, 1799 Lincoln Ave\, Evansville\, IN\, United States
GEO:37.969944;-87.532398
X-APPLE-STRUCTURED-LOCATION;VALUE=URI;X-ADDRESS=Lutheran Church of Our Redeemer 1799 Lincoln Ave Evansville IN United States;X-APPLE-RADIUS=500;X-TITLE=1799 Lincoln Ave:geo:-87.532398,37.969944
END:VEVENT
BEGIN:VEVENT
DTSTART;TZID=America/Chicago:20251228T091500
DTEND;TZID=America/Chicago:20251228T101500
DTSTAMP:20260419T150934
CREATED:20250819T191757Z
LAST-MODIFIED:20251225T181512Z
UID:10001476-1766913300-1766916900@www.redeemerchurch.org
SUMMARY:Online & In-Person Adult Bible Study
DESCRIPTION:
URL:https://www.redeemerchurch.org/event/online-in-person-adult-bible-study-64/
LOCATION:Lutheran Church of Our Redeemer\, 1799 Lincoln Ave\, Evansville\, IN\, United States
GEO:37.969944;-87.532398
X-APPLE-STRUCTURED-LOCATION;VALUE=URI;X-ADDRESS=Lutheran Church of Our Redeemer 1799 Lincoln Ave Evansville IN United States;X-APPLE-RADIUS=500;X-TITLE=1799 Lincoln Ave:geo:-87.532398,37.969944
END:VEVENT
BEGIN:VEVENT
DTSTART;TZID=America/Chicago:20251228T080000
DTEND;TZID=America/Chicago:20251228T090000
DTSTAMP:20260419T150934
CREATED:20250819T191756Z
LAST-MODIFIED:20251225T181512Z
UID:10001474-1766908800-1766912400@www.redeemerchurch.org
SUMMARY:Traditional Worship @EVV
DESCRIPTION:
URL:https://www.redeemerchurch.org/event/traditional-worship-evv-127/
LOCATION:Lutheran Church of Our Redeemer\, 1799 Lincoln Ave\, Evansville\, IN\, United States
GEO:37.969944;-87.532398
X-APPLE-STRUCTURED-LOCATION;VALUE=URI;X-ADDRESS=Lutheran Church of Our Redeemer 1799 Lincoln Ave Evansville IN United States;X-APPLE-RADIUS=500;X-TITLE=1799 Lincoln Ave:geo:-87.532398,37.969944
END:VEVENT
BEGIN:VEVENT
DTSTART;TZID=America/Chicago:20251224T183000
DTEND;TZID=America/Chicago:20251224T200000
DTSTAMP:20260419T150934
CREATED:20251029T154516Z
LAST-MODIFIED:20251218T180315Z
UID:10001829-1766601000-1766606400@www.redeemerchurch.org
SUMMARY:Choir Practice
DESCRIPTION:
URL:https://www.redeemerchurch.org/event/choir-practice-46/
LOCATION:Lutheran Church of Our Redeemer\, 1799 Lincoln Ave\, Evansville\, IN\, United States
GEO:37.969944;-87.532398
X-APPLE-STRUCTURED-LOCATION;VALUE=URI;X-ADDRESS=Lutheran Church of Our Redeemer 1799 Lincoln Ave Evansville IN United States;X-APPLE-RADIUS=500;X-TITLE=1799 Lincoln Ave:geo:-87.532398,37.969944
END:VEVENT
BEGIN:VEVENT
DTSTART;TZID=America/Chicago:20251221T103000
DTEND;TZID=America/Chicago:20251221T113000
DTSTAMP:20260419T150934
CREATED:20250819T191756Z
LAST-MODIFIED:20251218T180314Z
UID:10001466-1766313000-1766316600@www.redeemerchurch.org
SUMMARY:Traditional Worship @EVV
DESCRIPTION:
URL:https://www.redeemerchurch.org/event/traditional-worship-evv-126/
LOCATION:Lutheran Church of Our Redeemer\, 1799 Lincoln Ave\, Evansville\, IN\, United States
GEO:37.969944;-87.532398
X-APPLE-STRUCTURED-LOCATION;VALUE=URI;X-ADDRESS=Lutheran Church of Our Redeemer 1799 Lincoln Ave Evansville IN United States;X-APPLE-RADIUS=500;X-TITLE=1799 Lincoln Ave:geo:-87.532398,37.969944
END:VEVENT
BEGIN:VEVENT
DTSTART;TZID=America/Chicago:20251221T091500
DTEND;TZID=America/Chicago:20251221T101500
DTSTAMP:20260419T150934
CREATED:20250819T191755Z
LAST-MODIFIED:20251218T180314Z
UID:10001463-1766308500-1766312100@www.redeemerchurch.org
SUMMARY:Online & In-Person Adult Bible Study
DESCRIPTION:
URL:https://www.redeemerchurch.org/event/online-in-person-adult-bible-study-63/
LOCATION:Lutheran Church of Our Redeemer\, 1799 Lincoln Ave\, Evansville\, IN\, United States
GEO:37.969944;-87.532398
X-APPLE-STRUCTURED-LOCATION;VALUE=URI;X-ADDRESS=Lutheran Church of Our Redeemer 1799 Lincoln Ave Evansville IN United States;X-APPLE-RADIUS=500;X-TITLE=1799 Lincoln Ave:geo:-87.532398,37.969944
END:VEVENT
BEGIN:VEVENT
DTSTART;TZID=America/Chicago:20251221T080000
DTEND;TZID=America/Chicago:20251221T090000
DTSTAMP:20260419T150934
CREATED:20250819T191755Z
LAST-MODIFIED:20251218T180314Z
UID:10001462-1766304000-1766307600@www.redeemerchurch.org
SUMMARY:Traditional Worship @EVV
DESCRIPTION:
URL:https://www.redeemerchurch.org/event/traditional-worship-evv-125/
LOCATION:Lutheran Church of Our Redeemer\, 1799 Lincoln Ave\, Evansville\, IN\, United States
GEO:37.969944;-87.532398
X-APPLE-STRUCTURED-LOCATION;VALUE=URI;X-ADDRESS=Lutheran Church of Our Redeemer 1799 Lincoln Ave Evansville IN United States;X-APPLE-RADIUS=500;X-TITLE=1799 Lincoln Ave:geo:-87.532398,37.969944
END:VEVENT
BEGIN:VEVENT
DTSTART;VALUE=DATE:20251219
DTEND;VALUE=DATE:20251220
DTSTAMP:20260419T150934
CREATED:20250819T191755Z
LAST-MODIFIED:20251218T180314Z
UID:10001461-1766102400-1766188799@www.redeemerchurch.org
SUMMARY:Preschool-Christmas Program and Party(All Classes)-Program starts at 9 am
DESCRIPTION:FELLOWSHIP HALL-PROGRAM WILL BE 30 MINUTES
URL:https://www.redeemerchurch.org/event/preschool-christmas-program-and-partyall-classes-program-starts-at-9-am/
LOCATION:Lutheran Church of Our Redeemer\, 1799 Lincoln Ave\, Evansville\, IN\, United States
GEO:37.969944;-87.532398
X-APPLE-STRUCTURED-LOCATION;VALUE=URI;X-ADDRESS=Lutheran Church of Our Redeemer 1799 Lincoln Ave Evansville IN United States;X-APPLE-RADIUS=500;X-TITLE=1799 Lincoln Ave:geo:-87.532398,37.969944
END:VEVENT
BEGIN:VEVENT
DTSTART;TZID=America/Chicago:20251217T183000
DTEND;TZID=America/Chicago:20251217T200000
DTSTAMP:20260419T150934
CREATED:20251029T154515Z
LAST-MODIFIED:20251210T163525Z
UID:10001826-1765996200-1766001600@www.redeemerchurch.org
SUMMARY:Choir Practice
DESCRIPTION:
URL:https://www.redeemerchurch.org/event/choir-practice-45/
LOCATION:Lutheran Church of Our Redeemer\, 1799 Lincoln Ave\, Evansville\, IN\, United States
GEO:37.969944;-87.532398
X-APPLE-STRUCTURED-LOCATION;VALUE=URI;X-ADDRESS=Lutheran Church of Our Redeemer 1799 Lincoln Ave Evansville IN United States;X-APPLE-RADIUS=500;X-TITLE=1799 Lincoln Ave:geo:-87.532398,37.969944
END:VEVENT
BEGIN:VEVENT
DTSTART;TZID=America/Chicago:20251214T120000
DTEND;TZID=America/Chicago:20251214T140000
DTSTAMP:20260419T150934
CREATED:20250819T191754Z
LAST-MODIFIED:20251210T163512Z
UID:10001455-1765713600-1765720800@www.redeemerchurch.org
SUMMARY:Middle Youth Christmas Party@EVV
DESCRIPTION:Julia Hoagland hosting in Fellowship Hall for 5-8th Graders
URL:https://www.redeemerchurch.org/event/youthnight-christmas-partyevv/
LOCATION:Lutheran Church of Our Redeemer\, 1799 Lincoln Ave\, Evansville\, IN\, United States
GEO:37.969944;-87.532398
X-APPLE-STRUCTURED-LOCATION;VALUE=URI;X-ADDRESS=Lutheran Church of Our Redeemer 1799 Lincoln Ave Evansville IN United States;X-APPLE-RADIUS=500;X-TITLE=1799 Lincoln Ave:geo:-87.532398,37.969944
END:VEVENT
BEGIN:VEVENT
DTSTART;TZID=America/Chicago:20251214T103000
DTEND;TZID=America/Chicago:20251214T113000
DTSTAMP:20260419T150934
CREATED:20250819T191754Z
LAST-MODIFIED:20251210T163512Z
UID:10001453-1765708200-1765711800@www.redeemerchurch.org
SUMMARY:Traditional Worship @EVV
DESCRIPTION:
URL:https://www.redeemerchurch.org/event/traditional-worship-evv-124/
LOCATION:Lutheran Church of Our Redeemer\, 1799 Lincoln Ave\, Evansville\, IN\, United States
GEO:37.969944;-87.532398
X-APPLE-STRUCTURED-LOCATION;VALUE=URI;X-ADDRESS=Lutheran Church of Our Redeemer 1799 Lincoln Ave Evansville IN United States;X-APPLE-RADIUS=500;X-TITLE=1799 Lincoln Ave:geo:-87.532398,37.969944
END:VEVENT
BEGIN:VEVENT
DTSTART;TZID=America/Chicago:20251214T091500
DTEND;TZID=America/Chicago:20251214T101500
DTSTAMP:20260419T150934
CREATED:20250819T191754Z
LAST-MODIFIED:20251210T163512Z
UID:10001450-1765703700-1765707300@www.redeemerchurch.org
SUMMARY:Online & In-Person Adult Bible Study
DESCRIPTION:
URL:https://www.redeemerchurch.org/event/online-in-person-adult-bible-study-62/
LOCATION:Lutheran Church of Our Redeemer\, 1799 Lincoln Ave\, Evansville\, IN\, United States
GEO:37.969944;-87.532398
X-APPLE-STRUCTURED-LOCATION;VALUE=URI;X-ADDRESS=Lutheran Church of Our Redeemer 1799 Lincoln Ave Evansville IN United States;X-APPLE-RADIUS=500;X-TITLE=1799 Lincoln Ave:geo:-87.532398,37.969944
END:VEVENT
BEGIN:VEVENT
DTSTART;TZID=America/Chicago:20251214T080000
DTEND;TZID=America/Chicago:20251214T090000
DTSTAMP:20260419T150934
CREATED:20250819T191753Z
LAST-MODIFIED:20251210T163512Z
UID:10001449-1765699200-1765702800@www.redeemerchurch.org
SUMMARY:Traditional Worship @EVV
DESCRIPTION:
URL:https://www.redeemerchurch.org/event/traditional-worship-evv-123/
LOCATION:Lutheran Church of Our Redeemer\, 1799 Lincoln Ave\, Evansville\, IN\, United States
GEO:37.969944;-87.532398
X-APPLE-STRUCTURED-LOCATION;VALUE=URI;X-ADDRESS=Lutheran Church of Our Redeemer 1799 Lincoln Ave Evansville IN United States;X-APPLE-RADIUS=500;X-TITLE=1799 Lincoln Ave:geo:-87.532398,37.969944
END:VEVENT
BEGIN:VEVENT
DTSTART;TZID=America/Chicago:20251210T183000
DTEND;TZID=America/Chicago:20251210T200000
DTSTAMP:20260419T150934
CREATED:20251029T154514Z
LAST-MODIFIED:20251210T163511Z
UID:10001823-1765391400-1765396800@www.redeemerchurch.org
SUMMARY:Choir Practice
DESCRIPTION:
URL:https://www.redeemerchurch.org/event/choir-practice-44/
LOCATION:Lutheran Church of Our Redeemer\, 1799 Lincoln Ave\, Evansville\, IN\, United States
GEO:37.969944;-87.532398
X-APPLE-STRUCTURED-LOCATION;VALUE=URI;X-ADDRESS=Lutheran Church of Our Redeemer 1799 Lincoln Ave Evansville IN United States;X-APPLE-RADIUS=500;X-TITLE=1799 Lincoln Ave:geo:-87.532398,37.969944
END:VEVENT
BEGIN:VEVENT
DTSTART;TZID=America/Chicago:20251207T103000
DTEND;TZID=America/Chicago:20251207T113000
DTSTAMP:20260419T150934
CREATED:20250819T191752Z
LAST-MODIFIED:20251203T163054Z
UID:10001442-1765103400-1765107000@www.redeemerchurch.org
SUMMARY:Traditional Worship @EVV
DESCRIPTION:
URL:https://www.redeemerchurch.org/event/traditional-worship-evv-122/
LOCATION:Lutheran Church of Our Redeemer\, 1799 Lincoln Ave\, Evansville\, IN\, United States
GEO:37.969944;-87.532398
X-APPLE-STRUCTURED-LOCATION;VALUE=URI;X-ADDRESS=Lutheran Church of Our Redeemer 1799 Lincoln Ave Evansville IN United States;X-APPLE-RADIUS=500;X-TITLE=1799 Lincoln Ave:geo:-87.532398,37.969944
END:VEVENT
END:VCALENDAR